Workbook

Sheet Flavor Unfitness Worksheet
A1: Flavor Unfitness Worksheet | J1: Version 2026.1
E2: Don't know how to use this worksheet? See the instructions below!
A3: Formula Information:
A4: Total Weight
A5: Alcohol content (high end of box #10) *DO NOT ENTER % SIGN*
G6: * guideline applies even if product contains mitigating ingredients
A7: FEMA # | B7: Ingredient | C7: Limited (see key below) | D7: Weight of ingredient | E7: ppm in flavor | F7: ppm @ 15% ABV | G7: MAX Use Level | H7: Factor higher MAX Use Level | I7: Fit or Unfit? * | J7: Remarks
B9: =IF(ISERROR(VLOOKUP(A9,Fenaroli!$A$2:$E$3332,2,FALSE)),"-",(VLOOKUP(A9,Fenaroli!$A$2:$E$3332,2,FALSE))) -> - | C9: =IF(ISERROR(VLOOKUP(A9,'Limited Ingredients (hidden)'!A$2:C$120,3,FALSE)),"-",(VLOOKUP(A9,'Limited Ingredients (hidden)'!A$2:C$120,3,FALSE))) -> - | E9: =IF(ISERROR(IF(AND($B$5>0),(((D9/$B$4)*100)*10000),"-")),"-",IF(AND($B$5>0),(((D9/$B$4)*100)*10000),"-")) -> - | F9: =IF(ISERROR(IF($B$5>=15,(E9/(50/(750/$B$5))),(E9/(50/(750/15))))),"-",IF($B$5>=15,(E9/(50/(750/$B$5))),(E9/(50/(750/15))))) -> - | G9: =IF(ISERROR(VLOOKUP(A9,Fenaroli!$A$2:$E$3332,5,FALSE)),"-",(VLOOKUP(A9,Fenaroli!$A$2:$E$3332,5,FALSE))) -> - | H9: =IF(ISERROR(IF(AND(F9>=G9),(F9/G9),"-")),"-",IF(AND(F9>=G9),(F9/G9),"-")) -> - | I9: =IF(ISNUMBER(H9),IF(H9<5,"FIT","UNFIT"),"-") -> - | J9: =IF(AND(ISNUMBER(G9),(D9>0)),IF(G9>F9,"FIT (Max Use Level is higher)","-"),"-") -> -
B10: =IF(ISERROR(VLOOKUP(A10,Fenaroli!$A$2:$E$3332,2,FALSE)),"-",(VLOOKUP(A10,Fenaroli!$A$2:$E$3332,2,FALSE))) -> - | C10: =IF(ISERROR(VLOOKUP(A10,'Limited Ingredients (hidden)'!A$2:C$120,3,FALSE)),"-",(VLOOKUP(A10,'Limited Ingredients (hidden)'!A$2:C$120,3,FALSE))) -> - | E10: =IF(ISERROR(IF(AND($B$5>0),(((D10/$B$4)*100)*10000),"-")),"-",IF(AND($B$5>0),(((D10/$B$4)*100)*10000),"-")) -> - | F10: =IF(ISERROR(IF($B$5>=15,(E10/(50/(750/$B$5))),(E10/(50/(750/15))))),"-",IF($B$5>=15,(E10/(50/(750/$B$5))),(E10/(50/(750/15))))) -> - | G10: =IF(ISERROR(VLOOKUP(A10,Fenaroli!$A$2:$E$3332,5,FALSE)),"-",(VLOOKUP(A10,Fenaroli!$A$2:$E$3332,5,FALSE))) -> - | H10: =IF(ISERROR(IF(AND(F10>=G10),(F10/G10),"-")),"-",IF(AND(F10>=G10),(F10/G10),"-")) -> - | I10: =IF(ISNUMBER(H10),IF(H10<5,"FIT","UNFIT"),"-") -> - | J10: =IF(AND(ISNUMBER(G10),(D10>0)),IF(G10>F10,"FIT (Max Use Level is higher)","-"),"-") -> -
B11: =IF(ISERROR(VLOOKUP(A11,Fenaroli!$A$2:$E$3332,2,FALSE)),"-",(VLOOKUP(A11,Fenaroli!$A$2:$E$3332,2,FALSE))) -> - | C11: =IF(ISERROR(VLOOKUP(A11,'Limited Ingredients (hidden)'!A$2:C$120,3,FALSE)),"-",(VLOOKUP(A11,'Limited Ingredients (hidden)'!A$2:C$120,3,FALSE))) -> - | E11: =IF(ISERROR(IF(AND($B$5>0),(((D11/$B$4)*100)*10000),"-")),"-",IF(AND($B$5>0),(((D11/$B$4)*100)*10000),"-")) -> - | F11: =IF(ISERROR(IF($B$5>=15,(E11/(50/(750/$B$5))),(E11/(50/(750/15))))),"-",IF($B$5>=15,(E11/(50/(750/$B$5))),(E11/(50/(750/15))))) -> - | G11: =IF(ISERROR(VLOOKUP(A11,Fenaroli!$A$2:$E$3332,5,FALSE)),"-",(VLOOKUP(A11,Fenaroli!$A$2:$E$3332,5,FALSE))) -> - | H11: =IF(ISERROR(IF(AND(F11>=G11),(F11/G11),"-")),"-",IF(AND(F11>=G11),(F11/G11),"-")) -> - | I11: =IF(ISNUMBER(H11),IF(H11<5,"FIT","UNFIT"),"-") -> - | J11: =IF(AND(ISNUMBER(G11),(D11>0)),IF(G11>F11,"FIT (Max Use Level is higher)","-"),"-") -> -
B12: =IF(ISERROR(VLOOKUP(A12,Fenaroli!$A$2:$E$3332,2,FALSE)),"-",(VLOOKUP(A12,Fenaroli!$A$2:$E$3332,2,FALSE))) -> - | C12: =IF(ISERROR(VLOOKUP(A12,'Limited Ingredients (hidden)'!A$2:C$120,3,FALSE)),"-",(VLOOKUP(A12,'Limited Ingredients (hidden)'!A$2:C$120,3,FALSE))) -> - | E12: =IF(ISERROR(IF(AND($B$5>0),(((D12/$B$4)*100)*10000),"-")),"-",IF(AND($B$5>0),(((D12/$B$4)*100)*10000),"-")) -> - | F12: =IF(ISERROR(IF($B$5>=15,(E12/(50/(750/$B$5))),(E12/(50/(750/15))))),"-",IF($B$5>=15,(E12/(50/(750/$B$5))),(E12/(50/(750/15))))) -> - | G12: =IF(ISERROR(VLOOKUP(A12,Fenaroli!$A$2:$E$3332,5,FALSE)),"-",(VLOOKUP(A12,Fenaroli!$A$2:$E$3332,5,FALSE))) -> - | H12: =IF(ISERROR(IF(AND(F12>=G12),(F12/G12),"-")),"-",IF(AND(F12>=G12),(F12/G12),"-")) -> - | I12: =IF(ISNUMBER(H12),IF(H12<5,"FIT","UNFIT"),"-") -> - | J12: =IF(AND(ISNUMBER(G12),(D12>0)),IF(G12>F12,"FIT (Max Use Level is higher)","-"),"-") -> -
B13: =IF(ISERROR(VLOOKUP(A13,Fenaroli!$A$2:$E$3332,2,FALSE)),"-",(VLOOKUP(A13,Fenaroli!$A$2:$E$3332,2,FALSE))) -> - | C13: =IF(ISERROR(VLOOKUP(A13,'Limited Ingredients (hidden)'!A$2:C$120,3,FALSE)),"-",(VLOOKUP(A13,'Limited Ingredients (hidden)'!A$2:C$120,3,FALSE))) -> - | E13: =IF(ISERROR(IF(AND($B$5>0),(((D13/$B$4)*100)*10000),"-")),"-",IF(AND($B$5>0),(((D13/$B$4)*100)*10000),"-")) -> - | F13: =IF(ISERROR(IF($B$5>=15,(E13/(50/(750/$B$5))),(E13/(50/(750/15))))),"-",IF($B$5>=15,(E13/(50/(750/$B$5))),(E13/(50/(750/15))))) -> - | G13: =IF(ISERROR(VLOOKUP(A13,Fenaroli!$A$2:$E$3332,5,FALSE)),"-",(VLOOKUP(A13,Fenaroli!$A$2:$E$3332,5,FALSE))) -> - | H13: =IF(ISERROR(IF(AND(F13>=G13),(F13/G13),"-")),"-",IF(AND(F13>=G13),(F13/G13),"-")) -> - | I13: =IF(ISNUMBER(H13),IF(H13<5,"FIT","UNFIT"),"-") -> - | J13: =IF(AND(ISNUMBER(G13),(D13>0)),IF(G13>F13,"FIT (Max Use Level is higher)","-"),"-") -> -
B14: =IF(ISERROR(VLOOKUP(A14,Fenaroli!$A$2:$E$3332,2,FALSE)),"-",(VLOOKUP(A14,Fenaroli!$A$2:$E$3332,2,FALSE))) -> - | C14: =IF(ISERROR(VLOOKUP(A14,'Limited Ingredients (hidden)'!A$2:C$120,3,FALSE)),"-",(VLOOKUP(A14,'Limited Ingredients (hidden)'!A$2:C$120,3,FALSE))) -> - | E14: =IF(ISERROR(IF(AND($B$5>0),(((D14/$B$4)*100)*10000),"-")),"-",IF(AND($B$5>0),(((D14/$B$4)*100)*10000),"-")) -> - | F14: =IF(ISERROR(IF($B$5>=15,(E14/(50/(750/$B$5))),(E14/(50/(750/15))))),"-",IF($B$5>=15,(E14/(50/(750/$B$5))),(E14/(50/(750/15))))) -> - | G14: =IF(ISERROR(VLOOKUP(A14,Fenaroli!$A$2:$E$3332,5,FALSE)),"-",(VLOOKUP(A14,Fenaroli!$A$2:$E$3332,5,FALSE))) -> - | H14: =IF(ISERROR(IF(AND(F14>=G14),(F14/G14),"-")),"-",IF(AND(F14>=G14),(F14/G14),"-")) -> - | I14: =IF(ISNUMBER(H14),IF(H14<5,"FIT","UNFIT"),"-") -> - | J14: =IF(AND(ISNUMBER(G14),(D14>0)),IF(G14>F14,"FIT (Max Use Level is higher)","-"),"-") -> -
B15: =IF(ISERROR(VLOOKUP(A15,Fenaroli!$A$2:$E$3332,2,FALSE)),"-",(VLOOKUP(A15,Fenaroli!$A$2:$E$3332,2,FALSE))) -> - | C15: =IF(ISERROR(VLOOKUP(A15,'Limited Ingredients (hidden)'!A$2:C$120,3,FALSE)),"-",(VLOOKUP(A15,'Limited Ingredients (hidden)'!A$2:C$120,3,FALSE))) -> - | E15: =IF(ISERROR(IF(AND($B$5>0),(((D15/$B$4)*100)*10000),"-")),"-",IF(AND($B$5>0),(((D15/$B$4)*100)*10000),"-")) -> - | F15: =IF(ISERROR(IF($B$5>=15,(E15/(50/(750/$B$5))),(E15/(50/(750/15))))),"-",IF($B$5>=15,(E15/(50/(750/$B$5))),(E15/(50/(750/15))))) -> - | G15: =IF(ISERROR(VLOOKUP(A15,Fenaroli!$A$2:$E$3332,5,FALSE)),"-",(VLOOKUP(A15,Fenaroli!$A$2:$E$3332,5,FALSE))) -> - | H15: =IF(ISERROR(IF(AND(F15>=G15),(F15/G15),"-")),"-",IF(AND(F15>=G15),(F15/G15),"-")) -> - | I15: =IF(ISNUMBER(H15),IF(H15<5,"FIT","UNFIT"),"-") -> - | J15: =IF(AND(ISNUMBER(G15),(D15>0)),IF(G15>F15,"FIT (Max Use Level is higher)","-"),"-") -> -
B16: =IF(ISERROR(VLOOKUP(A16,Fenaroli!$A$2:$E$3332,2,FALSE)),"-",(VLOOKUP(A16,Fenaroli!$A$2:$E$3332,2,FALSE))) -> - | C16: =IF(ISERROR(VLOOKUP(A16,'Limited Ingredients (hidden)'!A$2:C$120,3,FALSE)),"-",(VLOOKUP(A16,'Limited Ingredients (hidden)'!A$2:C$120,3,FALSE))) -> - | E16: =IF(ISERROR(IF(AND($B$5>0),(((D16/$B$4)*100)*10000),"-")),"-",IF(AND($B$5>0),(((D16/$B$4)*100)*10000),"-")) -> - | F16: =IF(ISERROR(IF($B$5>=15,(E16/(50/(750/$B$5))),(E16/(50/(750/15))))),"-",IF($B$5>=15,(E16/(50/(750/$B$5))),(E16/(50/(750/15))))) -> - | G16: =IF(ISERROR(VLOOKUP(A16,Fenaroli!$A$2:$E$3332,5,FALSE)),"-",(VLOOKUP(A16,Fenaroli!$A$2:$E$3332,5,FALSE))) -> - | H16: =IF(ISERROR(IF(AND(F16>=G16),(F16/G16),"-")),"-",IF(AND(F16>=G16),(F16/G16),"-")) -> - | I16: =IF(ISNUMBER(H16),IF(H16<5,"FIT","UNFIT"),"-") -> - | J16: =IF(AND(ISNUMBER(G16),(D16>0)),IF(G16>F16,"FIT (Max Use Level is higher)","-"),"-") -> -
B17: =IF(ISERROR(VLOOKUP(A17,Fenaroli!$A$2:$E$3332,2,FALSE)),"-",(VLOOKUP(A17,Fenaroli!$A$2:$E$3332,2,FALSE))) -> - | C17: =IF(ISERROR(VLOOKUP(A17,'Limited Ingredients (hidden)'!A$2:C$120,3,FALSE)),"-",(VLOOKUP(A17,'Limited Ingredients (hidden)'!A$2:C$120,3,FALSE))) -> - | E17: =IF(ISERROR(IF(AND($B$5>0),(((D17/$B$4)*100)*10000),"-")),"-",IF(AND($B$5>0),(((D17/$B$4)*100)*10000),"-")) -> - | F17: =IF(ISERROR(IF($B$5>=15,(E17/(50/(750/$B$5))),(E17/(50/(750/15))))),"-",IF($B$5>=15,(E17/(50/(750/$B$5))),(E17/(50/(750/15))))) -> - | G17: =IF(ISERROR(VLOOKUP(A17,Fenaroli!$A$2:$E$3332,5,FALSE)),"-",(VLOOKUP(A17,Fenaroli!$A$2:$E$3332,5,FALSE))) -> - | H17: =IF(ISERROR(IF(AND(F17>=G17),(F17/G17),"-")),"-",IF(AND(F17>=G17),(F17/G17),"-")) -> - | I17: =IF(ISNUMBER(H17),IF(H17<5,"FIT","UNFIT"),"-") -> - | J17: =IF(AND(ISNUMBER(G17),(D17>0)),IF(G17>F17,"FIT (Max Use Level is higher)","-"),"-") -> -
B18: =IF(ISERROR(VLOOKUP(A18,Fenaroli!$A$2:$E$3332,2,FALSE)),"-",(VLOOKUP(A18,Fenaroli!$A$2:$E$3332,2,FALSE))) -> - | C18: =IF(ISERROR(VLOOKUP(A18,'Limited Ingredients (hidden)'!A$2:C$120,3,FALSE)),"-",(VLOOKUP(A18,'Limited Ingredients (hidden)'!A$2:C$120,3,FALSE))) -> - | E18: =IF(ISERROR(IF(AND($B$5>0),(((D18/$B$4)*100)*10000),"-")),"-",IF(AND($B$5>0),(((D18/$B$4)*100)*10000),"-")) -> - | F18: =IF(ISERROR(IF($B$5>=15,(E18/(50/(750/$B$5))),(E18/(50/(750/15))))),"-",IF($B$5>=15,(E18/(50/(750/$B$5))),(E18/(50/(750/15))))) -> - | G18: =IF(ISERROR(VLOOKUP(A18,Fenaroli!$A$2:$E$3332,5,FALSE)),"-",(VLOOKUP(A18,Fenaroli!$A$2:$E$3332,5,FALSE))) -> - | H18: =IF(ISERROR(IF(AND(F18>=G18),(F18/G18),"-")),"-",IF(AND(F18>=G18),(F18/G18),"-")) -> - | I18: =IF(ISNUMBER(H18),IF(H18<5,"FIT","UNFIT"),"-") -> - | J18: =IF(AND(ISNUMBER(G18),(D18>0)),IF(G18>F18,"FIT (Max Use Level is higher)","-"),"-") -> -
B19: =IF(ISERROR(VLOOKUP(A19,Fenaroli!$A$2:$E$3332,2,FALSE)),"-",(VLOOKUP(A19,Fenaroli!$A$2:$E$3332,2,FALSE))) -> - | C19: =IF(ISERROR(VLOOKUP(A19,'Limited Ingredients (hidden)'!A$2:C$120,3,FALSE)),"-",(VLOOKUP(A19,'Limited Ingredients (hidden)'!A$2:C$120,3,FALSE))) -> - | E19: =IF(ISERROR(IF(AND($B$5>0),(((D19/$B$4)*100)*10000),"-")),"-",IF(AND($B$5>0),(((D19/$B$4)*100)*10000),"-")) -> - | F19: =IF(ISERROR(IF($B$5>=15,(E19/(50/(750/$B$5))),(E19/(50/(750/15))))),"-",IF($B$5>=15,(E19/(50/(750/$B$5))),(E19/(50/(750/15))))) -> - | G19: =IF(ISERROR(VLOOKUP(A19,Fenaroli!$A$2:$E$3332,5,FALSE)),"-",(VLOOKUP(A19,Fenaroli!$A$2:$E$3332,5,FALSE))) -> - | H19: =IF(ISERROR(IF(AND(F19>=G19),(F19/G19),"-")),"-",IF(AND(F19>=G19),(F19/G19),"-")) -> - | I19: =IF(ISNUMBER(H19),IF(H19<5,"FIT","UNFIT"),"-") -> - | J19: =IF(AND(ISNUMBER(G19),(D19>0)),IF(G19>F19,"FIT (Max Use Level is higher)","-"),"-") -> -
B20: =IF(ISERROR(VLOOKUP(A20,Fenaroli!$A$2:$E$3332,2,FALSE)),"-",(VLOOKUP(A20,Fenaroli!$A$2:$E$3332,2,FALSE))) -> - | C20: =IF(ISERROR(VLOOKUP(A20,'Limited Ingredients (hidden)'!A$2:C$120,3,FALSE)),"-",(VLOOKUP(A20,'Limited Ingredients (hidden)'!A$2:C$120,3,FALSE))) -> - | E20: =IF(ISERROR(IF(AND($B$5>0),(((D20/$B$4)*100)*10000),"-")),"-",IF(AND($B$5>0),(((D20/$B$4)*100)*10000),"-")) -> - | F20: =IF(ISERROR(IF($B$5>=15,(E20/(50/(750/$B$5))),(E20/(50/(750/15))))),"-",IF($B$5>=15,(E20/(50/(750/$B$5))),(E20/(50/(750/15))))) -> - | G20: =IF(ISERROR(VLOOKUP(A20,Fenaroli!$A$2:$E$3332,5,FALSE)),"-",(VLOOKUP(A20,Fenaroli!$A$2:$E$3332,5,FALSE))) -> - | H20: =IF(ISERROR(IF(AND(F20>=G20),(F20/G20),"-")),"-",IF(AND(F20>=G20),(F20/G20),"-")) -> - | I20: =IF(ISNUMBER(H20),IF(H20<5,"FIT","UNFIT"),"-") -> - | J20: =IF(AND(ISNUMBER(G20),(D20>0)),IF(G20>F20,"FIT (Max Use Level is higher)","-"),"-") -> -
... B28: =IF(ISERROR(VLOOKUP(A28,Fenaroli!$A$2:$E$3332,2,FALSE)),"-",(VLOOKUP(A28,Fenaroli!$A$2:$E$3332,2,FALSE))) -> - | C28: =IF(ISERROR(VLOOKUP(A28,'Limited Ingredients (hidden)'!A$2:C$120,3,FALSE)),"-",(VLOOKUP(A28,'Limited Ingredients (hidden)'!A$2:C$120,3,FALSE))) -> - | E28: =IF(ISERROR(IF(AND($B$5>0),(((D28/$B$4)*100)*10000),"-")),"-",IF(AND($B$5>0),(((D28/$B$4)*100)*10000),"-")) -> - | F28: =IF(ISERROR(IF($B$5>=15,(E28/(50/(750/$B$5))),(E28/(50/(750/15))))),"-",IF($B$5>=15,(E28/(50/(750/$B$5))),(E28/(50/(750/15))))) -> - | G28: =IF(ISERROR(VLOOKUP(A28,Fenaroli!$A$2:$E$3332,5,FALSE)),"-",(VLOOKUP(A28,Fenaroli!$A$2:$E$3332,5,FALSE))) -> - | H28: =IF(ISERROR(IF(AND(F28>=G28),(F28/G28),"-")),"-",IF(AND(F28>=G28),(F28/G28),"-")) -> - | I28: =IF(ISNUMBER(H28),IF(H28<5,"FIT","UNFIT"),"-") -> - | J28: =IF(AND(ISNUMBER(G28),(D28>0)),IF(G28>F28,"FIT (Max Use Level is higher)","-"),"-") -> -
A31: How to Use This Worksheet:
A32: 1. Enter in the formula information (name, TTB #, etc), total weight of the final product, and the alcohol content (high end of box #10).
A33: 2. Enter the FEMA number. If you do not know it, search the tab 'GRAS Materials.' Once the FEMA # is entered, the name of the ingredient will automatically appear.
A34: 3. Enter the weight of the ingredient. NOTE: The units of total weight and individual ingredient must match!
A35: 4. All other calculations will be done automatically. If the amount of the ingredient is at least 5X the Max Use Rate, then the final product is unfit.
A36: 5. The ingredient used must be present at the calculated level in the finished flavor. For extracted products, the calculation refers to the amount of the ingredient present after processing rather than the amount added.
A38: Other Guidelines:
A39: · Worksheets for the other guidelines found in the Drawback Tutorial are on the other tabs in this worksheet. Use the appropriate tab based on the units used.
A40: · The max use rates apply to compounded flavors and are not applicable to simple solvent solutions.
A42: Disclaimers:
A43: * Use of this worksheet is recommended but not required.
A44: * Compliance with the guidelines contained in the Flavor Unfitness Worksheet does not guarantee approval. TTB reserves the right to use alternative or additional testing at its discretion.
... A52: OPR: SSD
A53: 42830

Sheet Primary Guidelines (lbs-gal)
A1: Calculation Worksheets for Guidelines | H1: ='Flavor Unfitness Worksheet'!J1 -> Version 2026.1
A2: Units: pounds and gallons
A3: * guideline does not apply if the product contains mitigating ingredients.
A5: Examples of mitigating ingredients include, but are not limited to:
A6: Sugars (ex. Cane Sugar, Brown Sugar, Beet Sugar, etc.) | E6: Glycerine | G6: Fruit Extracts
A7: Artificial Sweetners (ex. Sucralose, Aspertame, Acesulfame K, etc.) | E7: High Fructose Corn Syrup | G7: Stevia
A8: Sugar Alcohols (ex. Sorbitol, Maltitol, Xylitol, etc.) | E8: Molasses | G8: Honey
A9: Fruit Juices (ex. Cherry Juice, Apple Juice, etc.) | E9: Glycyrrhizin | G9: Nulomoline
A10: Syrups (ex. Maple Syrup, Agave Syrup, Malt Syrup, etc.) | E10: Mono-Ammonium Glycyrrhizinate | G10: Inulin
A11: Extracts (Beet Extract, St. John's Extract, Licorice Extract, etc.) | E11: Fructose, Glucose, etc. | G11: Invert Sugar
A13: All values cannot be scaled below 15% ABV
A15: Anise Oil / Star Anise Oil * | B15: 4.4% by weight at 95% ethanol v/v
B16: Alcohol Content (upper end of range in item 10) | C16: Minimum Value Needed to Make Product Unfit | E16: Amount of Anise Oil (pounds) | F16: Weight of Final Product (pounds) | G16: % by weight of Anise Oil | H16: Unfit?
C17: =IF(ISERROR(IF(B17>=15,((B17*4.4)/95),0.695)),"-",IF(B17>=15,((B17*4.4)/95),0.695)) -> 0.695 | G17: =IF(ISERROR((E17/F17)*100),"-",((E17/F17)*100)) -> - | H17: =IF(ISNUMBER(G17),IF(G17>=C17,"YES","-"),"-") -> -
A19: Black Pepper Powder * | B19: 3.6 g/100 mL at 95% ethanol v/v
B20: Alcohol Content (upper end of range in item 10) | C20: Minimum Value Needed to Make Product Unfit | E20: Amount of Black Pepper Powder (pounds) | F20: Theoretical Yield Volume (gallons) | G20: g / 100 mL of Black Pepper Powder | H20: Unfit?
C21: =IF(ISERROR(IF(B21>=15,(B21*3.6)/95,0.568)),"-",IF(B21>=15,(B21*3.6)/95,0.568)) -> 0.568 | G21: =IF(ISERROR(((E21*453.5924)/(F21*3785.33))*100),"-",(((E21*453.5924)/(F21*3785.33))*100)) -> - | H21: =IF(ISNUMBER(G21),IF(G21>=C21,"YES","-"),"-") -> -
A23: Citric Acid | B23: Ethanol ≤ 30% v/v – acid must be ≥ [(0.1 × ethanol %) + 0.5] (g/100 mL)
B24: Ethanol > 30% v/v – acid must be ≥ [0.1 × ethanol %] (g/100 mL) | J24: If product contains mitigating ingredients, the following guideline applies:
B26: Alcohol Content (upper end of range in item 10) | C26: Minimum Value Needed to Make Product Unfit | E26: Amount of Citric Acid (pounds) | F26: Volume of Final Product (gallons) | G26: g / 100 mL of Citric Acid | H26: Unfit? | J26: Needed (if product contains mitigating ingredients) | K26: Unfit?
C27: =IF(ISERROR(IF(B27>=15,(0.1*B27)+0.5,2)),"-",IF(B27>=15,(0.1*B27)+0.5,2)) -> 2 | G27: =IF(ISERROR(((E27*453.5924)/(F27*3785.33))*100),"-",(((E27*453.5924)/(F27*3785.33))*100)) -> - | H27: =IF(ISNUMBER(G27),IF(G27>=C27,"YES","-"),"-") -> - | J27: =IF(ISERROR(IF(B27>=15,((0.1*B27)+0.5)*2,4)),"-",IF(B27>=15,((0.1*B27)+0.5)*2,4)) -> 4 | K27: =IF(ISNUMBER(G27),IF(G27>=J27,"YES","-"),"-") -> -
B29: Alcohol Content (upper end of range in item 10) | C29: Minimum Value Needed to Make Product Unfit | E29: Amount of Citric Acid (pounds) | F29: Volume of Final Product (gallons) | G29: g / 100 mL of Citric Acid | H29: Unfit? | J29: Needed (if product contains mitigating ingredients) | K29: Unfit?
C30: =IF(ISERROR(IF(B30>=15,(B30*0.1),1.5)),"-",IF(B30>=15,(B30*0.1),1.5)) -> 1.5 | G30: =IF(ISERROR(((E30*453.5924)/(F30*3785.33))*100),"-",(((E30*453.5924)/(F30*3785.33))*100)) -> - | H30: =IF(ISNUMBER(G30),IF(G30>=C30,"YES","-"),"-") -> - | J30: =IF(ISERROR(IF(B30>=15,(B30*0.1)*2,3)),"-",IF(B30>=15,(B30*0.1)*2,3)) -> 3 | K30: =IF(ISNUMBER(G30),IF(G30>=J30,"YES","-"),"-") -> -
A32: Cocoa Nibs * | B32: 10.6 lbs/gal at 95% v/v ethanol
B33: Alcohol Content (upper end of range in item 10) | C33: Minimum Value Needed to Make Product Unfit | E33: Amount of Cocoa Nibs (pounds) | F33: Theoretical Yield Volume (gallons) | G33: lbs/gal Cocoa Nibs | H33: Unfit?
C34: =IF(ISERROR(IF(B34>=15,(B34*10.6)/95,1.674)),"-",IF(B34>=15,(B34*10.6)/95,1.674)) -> 1.674 | G34: =IF(ISERROR(E34/F34),"-",(E34/F34)) -> - | H34: =IF(ISNUMBER(G34),IF(G34>=C34,"YES","-"),"-") -> -
A36: Essential Oils * | B36: 3.2% by weight at 95% v/v ethanol
B37: See tutorial for more information on extracts
B38: Alcohol Content (upper end of range in item 10) | C38: Minimum Value Needed to Make Product Unfit | E38: Amount of Essential Oil (pounds) | F38: Weight of Final Product (pounds) | G38: % by weight of Essential Oil | H38: Unfit?
C39: =IF(ISERROR(IF(B39>=15,(B39*3.2)/95,0.505)),"-",IF(B39>=15,(B39*3.2)/95,0.505)) -> 0.505 | G39: =IF(ISERROR((E39/F39)*100),"-",((E39/F39)*100)) -> - | H39: =IF(ISNUMBER(G39),IF(G39>=C39,"YES","-"),"-") -> -
B40: (applies to individual oils - not a combination)
A41: Ethyl Acetate * | B41: 2.1% by volume at 95% v/v ethanol
B42: Alcohol Content (upper end of range in item 10) | C42: Minimum Value Needed to Make Product Unfit | E42: Amount of Ethyl Acetate (pounds) | F42: Volume of Final Product (gallons) | G42: % by volume of Ethyl Acetate | H42: Unfit?
C43: =IF(ISERROR(IF(B43>=15,(B43*2.1)/95,0.332)),"-",IF(B43>=15,(B43*2.1)/95,0.332)) -> 0.332 | G43: =IF(ISERROR(((E43/7.485828)/F43)*100),"-",(((E43/7.485828)/F43)*100)) -> - | H43: =IF(ISNUMBER(G43),IF(G43>=C43,"YES","-"),"-") -> -
A45: Ethyl Maltol * | B45: 5.3% by weight at 95% v/v ethanol
B46: Alcohol Content (upper end of range in item 10) | C46: Minimum Value Needed to Make Product Unfit | E46: Amount of Ethyl Maltol (pounds) | F46: Weight of Final Product (pounds) | G46: % by weight of Ethyl Maltol | H46: Unfit?
C47: =IF(ISERROR(IF(B47>=15,(B47*5.3)/95,0.837)),"-",IF(B47>=15,(B47*5.3)/95,0.837)) -> 0.837 | G47: =IF(ISERROR((E47/F47)*100),"-",((E47/F47)*100)) -> - | H47: =IF(ISNUMBER(G47),IF(G47>=C47,"YES","-"),"-") -> -
A49: Ethyl Vanillin * | B49: 1.3 av.oz./gal at 95% v/v ethanol
B50: Alcohol Content (upper end of range in item 10) | C50: Minimum Value Needed to Make Product Unfit | E50: Amount of Ethyl Vanillin (pounds) | F50: Volume of Final Product (gallons) | G50: av.oz. / gal of Ethyl Vanillin | H50: Unfit?
C51: =IF(ISERROR(IF(B51>=15,(B51*1.3)/95,0.205)),"-",IF(B51>=15,(B51*1.3)/95,0.205)) -> 0.205 | G51: =IF(ISERROR((E51*16)/F51),"-",((E51*16)/F51)) -> - | H51: =IF(ISNUMBER(G51),IF(G51>=C51,"YES","-"),"-") -> -
A53: Fennel Oil * | B53: 4.43% by weight at 95% ethanol v/v
B54: Alcohol Content (upper end of range in item 10) | C54: Minimum Value Needed to Make Product Unfit | E54: Amount of Fennel Oil (pounds) | F54: Weight of Final Product (pounds) | G54: % by weight of Fennel Oil | H54: Unfit?
C55: =IF(ISERROR(IF(B55>=15,(B55*4.43)/95,0.699)),"-",IF(B55>=15,(B55*4.43)/95,0.699)) -> 0.699 | G55: =IF(ISERROR((E55/F55)*100),"-",((E55/F55)*100)) -> - | H55: =IF(ISNUMBER(G55),IF(G55>=C55,"YES","-"),"-") -> -
A57: Fusel Oil * | B57: 1.6 g/100 mL at 95% v/v ethanol
B58: Alcohol Content (upper end of range in item 10) | C58: Minimum Value Needed to Make Product Unfit | E58: Amount of Fusel Oil (pounds) | F58: Volume of Final Product (gallons) | G58: g / 100 mL of Fusel Oil | H58: Unfit?
C59: =IF(ISERROR(IF(B59>=15,(B59*1.6)/95,0.253)),"-",IF(B59>=15,(B59*1.6)/95,0.253)) -> 0.253 | G59: =IF(ISERROR(((E59*453.5924)/(F59*3785.33))*100),"-",(((E59*453.5924)/(F59*3785.33))*100)) -> - | H59: =IF(ISNUMBER(G59),IF(G59>=C59,"YES","-"),"-") -> -
A61: Lactic Acid * | B61: 9.5% by volume at 95% v/v ethanol
B62: Alcohol Content (upper end of range in item 10) | C62: Minimum Value Needed to Make Product Unfit | E62: Amount of Lactic Acid (gallons) | F62: Volume of Final Product (gallons) | G62: % by volume of Lactic Acid | H62: Unfit?
C63: =IF(ISERROR(IF(B63>=15,(B63*9.5)/95,1.5)),"-",IF(B63>=15,(B63*9.5)/95,1.5)) -> 1.5 | G63: =IF(ISERROR((E63/F63)*100),"-",((E63/F63)*100)) -> - | H63: =IF(ISNUMBER(G63),IF(G63>=C63,"YES","-"),"-") -> -
A65: Malic Acid * | B65: Ethanol ≤ 30% v/v – acid must be ≥ [(0.14 × ethanol %) + 0.5] (g/100 mL)
B66: Ethanol > 30% v/v – acid must be ≥ [0.14 × ethanol %] (g/100 mL)
B68: Alcohol Content (upper end of range in item 10) | C68: Minimum Value Needed to Make Product Unfit | E68: Amount of Malic Acid (pounds) | F68: Volume of Final Product (gallons) | G68: g / 100 mL of Malic Acid | H68: Unfit?
C69: =IF(ISERROR(IF(B69>=15,(0.14*B69)+0.5,2.6)),"-",IF(B69>=15,(0.14*B69)+0.5,2.6)) -> 2.6 | G69: =IF(ISERROR(((E69*453.5924)/(F69*3785.33))*100),"-",(((E69*453.5924)/(F69*3785.33))*100)) -> - | H69: =IF(ISNUMBER(G69),IF(G69>=C69,"YES","-"),"-") -> -
B71: Alcohol Content (upper end of range in item 10) | C71: Minimum Value Needed to Make Product Unfit | E71: Amount of Malic Acid (pounds) | F71: Volume of Final Product (gallons) | G71: g / 100 mL of Malic Acid | H71: Unfit?
C72: =IF(ISERROR(IF(B72>=15,B72*0.14,2.1)),"-",IF(B72>=15,B72*0.14,2.1)) -> 2.1 | G72: =IF(ISERROR(((E72*453.5924)/(F72*3785.33))*100),"-",(((E72*453.5924)/(F72*3785.33))*100)) -> - | H72: =IF(ISNUMBER(G72),IF(G72>=C72,"YES","-"),"-") -> -
A74: Maltol * | B74: 5.3% by weight at 95% v/v ethanol
B75: Alcohol Content (upper end of range in item 10) | C75: Minimum Value Needed to Make Product Unfit | E75: Amount of Maltol (pounds) | F75: Weight of Final Product (pounds) | G75: % by weight of Maltol | H75: Unfit?
C76: =IF(ISERROR(IF(B76>=15,(B76*5.3)/95,0.837)),"-",IF(B76>=15,(B76*5.3)/95,0.837)) -> 0.837 | G76: =IF(ISERROR((E76/F76)*100),"-",((E76/F76)*100)) -> - | H76: =IF(ISNUMBER(G76),IF(G76>=C76,"YES","-"),"-") -> -
J77: If product contains mitigating ingredients, the following guideline applies:
A78: Propylene Glycol | B78: Equal amounts by volume of ethanol and propylene glycol
B79: Alcohol Content (upper end of range in item 10) | C79: Minimum Value Needed to Make Product Unfit | E79: Amount of Propylene Glycol (pounds) | F79: Volume of Final Product (gallons) | G79: % by volume of Propylene Glycol | H79: Unfit? | J79: Needed (if product contains mitigating ingredients) | K79: Unfit?
C80: =IF(ISERROR(IF(B80>=15,B80,15)),"-",IF(B80>=15,B80,15)) -> 15 | G80: =IF(ISERROR(((E80/8.63)/F80)*100),"-",(((E80/8.63)/F80)*100)) -> - | H80: =IF(ISNUMBER(G80),IF(G80>=C80,"YES","-"),"-") -> - | J80: =IF(ISERROR(IF(B80>=15,B80*2,30)),"-",IF(B80>=15,B80*2,30)) -> 30 | K80: =IF(ISNUMBER(G80),IF(G80>=J80,"YES","-"),"-") -> -
A82: Quassin Powder * | B82: 20.8 ppm at 95% v/v ethanol
B83: Alcohol Content (upper end of range in item 10) | C83: Minimum Value Needed to Make Product Unfit | E83: Amount of Quassia Powder (pounds) | F83: Weight of Final Product (pounds) | G83: ppm of Quassia Powder | H83: Unfit?
C84: =IF(ISERROR(IF(B84>=15,(B84*20.8)/95,3.284)),"-",IF(B84>=15,(B84*20.8)/95,3.284)) -> 3.284 | G84: =IF(ISERROR((E84/F84)*1000000),"-",((E84/F84)*1000000)) -> - | H84: =IF(ISNUMBER(G84),IF(G84>=C84,"YES","-"),"-") -> -
A86: Quinine * | B86: 950 ppm at 95% v/v ethanol
B87: Alcohol Content (upper end of range in item 10) | C87: Minimum Value Needed to Make Product Unfit | E87: Amount of Quinine (pounds) | F87: Weight of Final Product (pounds) | G87: ppm of Quinine | H87: Unfit?
C88: =IF(ISERROR(IF(B88>=15,(B88*950)/95,150)),"-",IF(B88>=15,(B88*950)/95,150)) -> 150 | G88: =IF(ISERROR((E88/F88)*1000000),"-",((E88/F88)*1000000)) -> - | H88: =IF(ISNUMBER(G88),IF(G88>=C88,"YES","-"),"-") -> -
A90: Salt (sodium chloride) * | B90: 6.8 g/100 mL at 95% v/v ethanol
B91: Alcohol Content (upper end of range in item 10) | C91: Minimum Value Needed to Make Product Unfit | E91: Amount of Salt (pounds) | F91: Volume of Final Product (gallons) | G91: g / 100 mL of Salt | H91: Unfit?
C92: =IF(ISERROR(IF(B92>=21,((B92*6.8)/95),1.5)),"-",(IF(B92>=21,((B92*6.8)/95),1.5))) -> 1.5 | G92: =IF(ISERROR(((E92*453.5924)/(F92*3785.33))*100),"-",(((E92*453.5924)/(F92*3785.33))*100)) -> - | H92: =IF(ISNUMBER(G92),IF(G92>=C92,"YES","-"),"-") -> -
B93: (cannot be scaled below 1.5 g/100mL salt)
A94: Tannic Acid * | B94: 1.6% by weight at 95% v/v ethanol
B95: Alcohol Content (upper end of range in item 10) | C95: Minimum Value Needed to Make Product Unfit | E95: Amount of Tannic Acid (pounds) | F95: Weight of Final Product (pounds) | G95: % by weight of Tannic Acid | H95: Unfit?
C96: =IF(ISERROR(IF(B96>=15,(B96*1.6)/95,0.253)),"-",IF(B96>=15,(B96*1.6)/95,0.253)) -> 0.253 | G96: =IF(ISERROR((E96/F96)*100),"-",((E96/F96)*100)) -> - | H96: =IF(ISNUMBER(G96),IF(G96>=C96,"YES","-"),"-") -> -
A98: Tartaric Acid * | B98: Ethanol ≤ 30% v/v – acid must be ≥ [(0.13 × ethanol %) + 0.5] (g/100 mL)
B99: Ethanol > 30% v/v – acid must be ≥ [0.13 × ethanol %] (g/100 mL)
B101: Alcohol Content (upper end of range in item 10) | C101: Minimum Value Needed to Make Product Unfit | E101: Amount of Tartaric Acid (pounds) | F101: Volume of Final Product (gallons) | G101: g / 100 mL of Tartaric Acid | H101: Unfit?
C102: =IF(ISERROR(IF(B102>=15,(0.13*B102)+0.5,2.45)),"-",IF(B102>=15,(0.13*B102)+0.5,2.45)) -> 2.45 | G102: =IF(ISERROR(((E102*453.5924)/(F102*3785.33))*100),"-",(((E102*453.5924)/(F102*3785.33))*100)) -> - | H102: =IF(ISNUMBER(G102),IF(G102>=C102,"YES","-"),"-") -> -
B104: Alcohol Content (upper end of range in item 10) | C104: Minimum Value Needed to Make Product Unfit | E104: Amount of Tartaric Acid (pounds) | F104: Volume of Final Product (gallons) | G104: g / 100 mL of Tartaric Acid | H104: Unfit?
C105: =IF(ISERROR(IF(B105>=15,B105*0.13,1.95)),"-",IF(B105>=15,B105*0.13,1.95)) -> 1.95 | G105: =IF(ISERROR(((E105*453.5924)/(F105*3785.33))*100),"-",(((E105*453.5924)/(F105*3785.33))*100)) -> - | H105: =IF(ISNUMBER(G105),IF(G105>=C105,"YES","-"),"-") -> -
A107: Triacetin * | B107: 2.5% by weight at 95% v/v ethanol
B108: Alcohol Content (upper end of range in item 10) | C108: Minimum Value Needed to Make Product Unfit | E108: Amount of Triacetin (pounds) | F108: Weight of Final Product (pounds) | G108: % by weight of Triacetin | H108: Unfit?
C109: =IF(ISERROR(IF(B109>=15,(B109*2.5)/95,0.395)),"-",(IF(B109>=15,(B109*2.5)/95,0.395))) -> 0.395 | G109: =IF(ISERROR((E109/F109)*100),"-",((E109/F109)*100)) -> - | H109: =IF(ISNUMBER(G109),IF(G109>=C109,"YES","-"),"-") -> -
A111: Triethyl Citrate * | B111: 2.5% by weight at 95% v/v ethanol
B112: Alcohol Content (upper end of range in item 10) | C112: Minimum Value Needed to Make Product Unfit | E112: Amount of Triethyl Citrate (pounds) | F112: Weight of Final Product (pounds) | G112: % by weight of Triethyl Citrate | H112: Unfit?
C113: =IF(ISERROR(IF(B113>=15,(B113*2.5)/95,0.395)),"-",IF(B113>=15,(B113*2.5)/95,0.395)) -> 0.395 | G113: =IF(ISERROR((E113/F113)*100),"-",((E113/F113)*100)) -> - | H113: =IF(ISNUMBER(G113),IF(G113>=C113,"YES","-"),"-") -> -
A115: Vanillin * | B115: 3.2 av.oz./gal at 95% v/v ethanol
B116: Alcohol Content (upper end of range in item 10) | C116: Minimum Value Needed to Make Product Unfit | E116: Amount of Vanillin (pounds) | F116: Volume of Final Product (gallons) | G116: av.oz. / gal of Vanillin | H116: Unfit?
C117: =IF(ISERROR(IF(B117>=15,(B117*3.2)/95,0.505)),"-",IF(B117>=15,(B117*3.2)/95,0.505)) -> 0.505 | G117: =IF(ISERROR((E117*16)/F117),"-",((E117*16)/F117)) -> - | H117: =IF(ISNUMBER(G117),IF(G117>=C117,"YES","-"),"-") -> -
A119: Washed Extracts * | B119: 6.33% by weight at 95% v/v ethanol
B120: Alcohol Content (upper end of range in item 10) | C120: Minimum Value Needed to Make Product Unfit (wt%) | E120: Amount of Oil (pounds) | F120: Theoretical Yield Weight (pounds) | G120: % by weight of Oil | H120: Unfit?
C121: =IF(ISERROR(IF(B121>=15,(B121*6.33)/95,1)),"-",IF(B121>=15,(B121*6.33)/95,1)) -> 1 | G121: =IF(ISERROR((E121/F121)*100),"-",((E121/F121)*100)) -> - | H121: =IF(ISNUMBER(G121),IF(G121>=C121,"YES","-"),"-") -> -
B122: (applies to individual oils and a combination of citrus oils)
A123: Flavor Chemicals unfit at 1% * | B123: 1% by weight at 95% v/v ethanol
B124: Alcohol Content (upper end of range in item 10) | C124: Minimum Value Needed to Make Product Unfit | E124: Amount of Flavor Chemical (pounds) | F124: Weight of Final Product (pounds) | G124: % by weight of Flavor Chemical | H124: Unfit?
C125: =IF(ISERROR(IF(B125>=15,B125/95,0.158)),"-",IF(B125>=15,B125/95,0.158)) -> 0.158 | G125: =IF(ISERROR((E125/F125)*100),"-",((E125/F125)*100)) -> - | H125: =IF(ISNUMBER(G125),IF(G125>=C125,"YES","-"),"-") -> -
B126: (cannot be scaled below 15% alcohol)
A127: Total Flavor Chemicals | B127: 2% by weight at 95% v/v ethanol
B128: Alcohol Content (upper end of range in item 10) | C128: Minimum Value Needed to Make Product Unfit | E128: Amount of Flavor Chemicals (pounds) | F128: Weight of Final Product (pounds) | G128: % by weight of Flavor Chemicals | H128: Unfit?
...

Sheet Primary Guidelines (g-mL)
A1: Calculation Worksheets for Guidelines | H1: ='Flavor Unfitness Worksheet'!J1 -> Version 2026.1
A2: Units: grams and mL
A3: * guideline does not apply if the product contains mitigating ingredients.
A5: Examples of mitigating ingredients include, but are not limited to:
A6: Sugars (ex. Cane Sugar, Brown Sugar, Beet Sugar, etc.) | E6: Glycerine | G6: Fruit Extracts
A7: Artificial Sweetners (ex. Sucralose, Aspertame, Acesulfame K, etc.) | E7: High Fructose Corn Syrup | G7: Stevia
A8: Sugar Alcohols (ex. Sorbitol, Maltitol, Xylitol, etc.) | E8: Molasses | G8: Honey
A9: Fruit Juices (ex. Cherry Juice, Apple Juice, etc.) | E9: Glycyrrhizin | G9: Nulomoline
A10: Syrups (ex. Maple Syrup, Agave Syrup, Malt Syrup, etc.) | E10: Mono-Ammonium Glycyrrhizinate | G10: Inulin
A11: Extracts (Beet Extract, St. John's Extract, Licorice Extract, etc.) | E11: Fructose, Glucose, etc. | G11: Invert Sugar
A13: All values cannot be scaled below 15% ABV
A15: Anise Oil / Star Anise Oil * | B15: 4.4% by weight at 95% v/v ethanol
B16: Alcohol Content (upper end of range in item 10) | C16: Minimum Value Needed to Make Product Unfit | E16: Amount of Anise Oil (grams) | F16: Weight of Final Product (grams) | G16: % by weight of Anise Oil | H16: Unfit?
C17: =IF(ISERROR(IF(B17>=15,((B17*4.4)/95),0.695)),"-",IF(B17>=15,((B17*4.4)/95),0.695)) -> 0.695 | G17: =IF(ISERROR((E17/F17)*100),"-",((E17/F17)*100)) -> - | H17: =IF(ISNUMBER(G17),IF(G17>=C17,"YES","-"),"-") -> -
A19: Black Pepper Powder * | B19: 3.6 g/100 mL at 95% ethanol v/v
B20: Alcohol Content (upper end of range in item 10) | C20: Minimum Value Needed to Make Product Unfit | E20: Amount of Black Pepper Powder (grams) | F20: Theoretical Yield Volume (mL) | G20: g / 100 mL of Black Pepper Powder | H20: Unfit?
C21: =IF(ISERROR(IF(B21>=15,(B21*3.6)/95,0.568)),"-",IF(B21>=15,(B21*3.6)/95,0.568)) -> 0.568 | G21: =IF(ISERROR((E21/F21)*100),"-",((E21/F21)*100)) -> - | H21: =IF(ISNUMBER(G21),IF(G21>=C21,"YES","-"),"-") -> -
A23: Citric Acid | B23: Ethanol ≤ 30% v/v – acid must be ≥ [(0.1 × ethanol %) + 0.5] (g/100 mL)
B24: Ethanol > 30% v/v – acid must be ≥ [0.1 × ethanol %] (g/100 mL) | J24: If product contains mitigating ingredients, the following guideline applies:
B26: Alcohol Content (upper end of range in item 10) | C26: Minimum Value Needed to Make Product Unfit | E26: Amount of Citric Acid (grams) | F26: Volume of Final Product (mL) | G26: g / 100 mL of Citric Acid | H26: Unfit? | J26: Needed (if product contains mitigating ingredients) | K26: Unfit?
C27: =IF(ISERROR(IF(B27>=15,(0.1*B27)+0.5,2)),"-",IF(B27>=15,(0.1*B27)+0.5,2)) -> 2 | G27: =IF(ISERROR((E27/F27)*100),"-",((E27/F27)*100)) -> - | H27: =IF(ISNUMBER(G27),IF(G27>=C27,"YES","-"),"-") -> - | J27: =IF(ISERROR(IF(B27>=15,((0.1*B27)+0.5)*2,4)),"-",IF(B27>=15,((0.1*B27)+0.5)*2,4)) -> 4 | K27: =IF(ISNUMBER(G27),IF(G27>=J27,"YES","-"),"-") -> -
B29: Alcohol Content (upper end of range in item 10) | C29: Minimum Value Needed to Make Product Unfit | E29: Amount of Citric Acid (grams) | F29: Volume of Final Product (mL) | G29: g / 100 mL of Citric Acid | H29: Unfit? | J29: Needed (if product contains mitigating ingredients) | K29: Unfit?
C30: =IF(ISERROR(IF(B30>=15,(B30*0.1),1.5)),"-",IF(B30>=15,(B30*0.1),1.5)) -> 1.5 | G30: =IF(ISERROR((E30/F30)*100),"-",((E30/F30)*100)) -> - | H30: =IF(ISNUMBER(G30),IF(G30>=C30,"YES","-"),"-") -> - | J30: =IF(ISERROR(IF(B30>=15,(B30*0.1)*2,3)),"-",IF(B30>=15,(B30*0.1)*2,3)) -> 3 | K30: =IF(ISNUMBER(G30),IF(G30>=J30,"YES","-"),"-") -> -
A32: Cocoa Nibs * | B32: 10.6 lbs/gal at 95% ethanol v/v
B33: Alcohol Content (upper end of range in item 10) | C33: Minimum Value Needed to Make Product Unfit | E33: Amount of Cocoa Nibs (grams) | F33: Theoretical Yield Volume (mL) | G33: lbs/gal Cocoa Nibs | H33: Unfit?
C34: =IF(ISERROR(IF(B34>=15,(B34*10.6)/95,1.674)),"-",IF(B34>=15,(B34*10.6)/95,1.674)) -> 1.674 | G34: =IF(ISERROR((E34/453.5924)/(F34/3785.33)),"-",(E34/453.5924)/(F34/3785.33)) -> - | H34: =IF(ISNUMBER(G34),IF(G34>=C34,"YES","-"),"-") -> -
A36: Essential Oils * | B36: 3.2% by weight at 95% v/v ethanol
B37: See tutorial for more information on extracts
B38: Alcohol Content (upper end of range in item 10) | C38: Minimum Value Needed to Make Product Unfit | E38: Amount of Essential Oil (grams) | F38: Weight of Final Product (grams) | G38: % by weight of Essential Oil | H38: Unfit?
C39: =IF(ISERROR(IF(B39>=15,(B39*3.2)/95,0.505)),"-",IF(B39>=15,(B39*3.2)/95,0.505)) -> 0.505 | G39: =IF(ISERROR((E39/F39)*100),"-",((E39/F39)*100)) -> - | H39: =IF(ISNUMBER(G39),IF(G39>=C39,"YES","-"),"-") -> -
B40: (applies to individual oils - not a combination)
A41: Ethyl Acetate * | B41: 2.1% by volume at 95% v/v ethanol
B42: Alcohol Content (upper end of range in item 10) | C42: Minimum Value Needed to Make Product Unfit | E42: Amount of Ethyl Acetate (grams) | F42: Volume of Final Product (mL) | G42: % by volume of Ethyl Acetate | H42: Unfit?
C43: =IF(ISERROR(IF(B43>=15,(B43*2.1)/95,0.332)),"-",IF(B43>=15,(B43*2.1)/95,0.332)) -> 0.332 | G43: =IF(ISERROR(((E43/0.897)/F43)*100),"-",(((E43/0.897)/F43)*100)) -> - | H43: =IF(ISNUMBER(G43),IF(G43>=C43,"YES","-"),"-") -> -
A45: Ethyl Maltol * | B45: 5.3% by weight at 95% v/v ethanol
B46: Alcohol Content (upper end of range in item 10) | C46: Minimum Value Needed to Make Product Unfit | E46: Amount of Ethyl Maltol (grams) | F46: Weight of Final Product (grams) | G46: % by weight of Ethyl Maltol | H46: Unfit?
C47: =IF(ISERROR(IF(B47>=15,(B47*5.3)/95,0.837)),"-",IF(B47>=15,(B47*5.3)/95,0.837)) -> 0.837 | G47: =IF(ISERROR((E47/F47)*100),"-",((E47/F47)*100)) -> - | H47: =IF(ISNUMBER(G47),IF(G47>=C47,"YES","-"),"-") -> -
A49: Ethyl Vanillin * | B49: 1.3 av.oz./gal at 95% v/v ethanol
B50: Alcohol Content (upper end of range in item 10) | C50: Minimum Value Needed to Make Product Unfit | E50: Amount of Ethyl Vanillin (grams) | F50: Volume of Final Product (mL) | G50: av.oz. / gal of Ethyl Vanillin | H50: Unfit?
C51: =IF(ISERROR(IF(B51>=15,(B51*1.3)/95,0.205)),"-",IF(B51>=15,(B51*1.3)/95,0.205)) -> 0.205 | G51: =IF(ISERROR((E51*0.0353)/(F51/3785.33)),"-",((E51*0.0353)/(F51/3785.33))) -> - | H51: =IF(ISNUMBER(G51),IF(G51>=C51,"YES","-"),"-") -> -
A53: Fennel Oil * | B53: 4.43% by weight at 95% v/v ethanol
B54: Alcohol Content (upper end of range in item 10) | C54: Minimum Value Needed to Make Product Unfit | E54: Amount of Fennel Oil (grams) | F54: Weight of Final Product (grams) | G54: % by weight of Fennel Oil | H54: Unfit?
C55: =IF(ISERROR(IF(B55>=15,(B55*4.43)/95,0.699)),"-",IF(B55>=15,(B55*4.43)/95,0.699)) -> 0.699 | G55: =IF(ISERROR((E55/F55)*100),"-",((E55/F55)*100)) -> - | H55: =IF(ISNUMBER(G55),IF(G55>=C55,"YES","-"),"-") -> -
A57: Fusel Oil * | B57: 1.6 g/100 mL at 95% v/v ethanol
B58: Alcohol Content (upper end of range in item 10) | C58: Minimum Value Needed to Make Product Unfit | E58: Amount of Fusel Oil (grams) | F58: Volume of Final Product (mL) | G58: g / 100 mL of Fusel Oil | H58: Unfit?
C59: =IF(ISERROR(IF(B59>=15,(B59*1.6)/95,0.253)),"-",IF(B59>=15,(B59*1.6)/95,0.253)) -> 0.253 | G59: =IF(ISERROR(E59/F59)*100,"-",(E59/F59)*100) -> - | H59: =IF(ISNUMBER(G59),IF(G59>=C59,"YES","-"),"-") -> -
A61: Lactic Acid * | B61: 9.5% by volume at 95% v/v ethanol
B62: Alcohol Content (upper end of range in item 10) | C62: Minimum Value Needed to Make Product Unfit | E62: Amount of Lactic Acid (mL) | F62: Volume of Final Product (mL) | G62: % by volume of Lactic Acid | H62: Unfit?
C63: =IF(ISERROR(IF(B63>=15,(B63*9.5)/95,1.5)),"-",IF(B63>=15,(B63*9.5)/95,1.5)) -> 1.5 | G63: =IF(ISERROR((E63/F63)*100),"-",((E63/F63)*100)) -> - | H63: =IF(ISNUMBER(G63),IF(G63>=C63,"YES","-"),"-") -> -
A65: Malic Acid * | B65: Ethanol ≤ 30% v/v – acid must be ≥ [(0.14 × ethanol %) + 0.5] (g/100 mL)
B66: Ethanol > 30% v/v – acid must be ≥ [0.14 × ethanol %] (g/100 mL)
B68: Alcohol Content (upper end of range in item 10) | C68: Minimum Value Needed to Make Product Unfit | E68: Amount of Malic Acid (grams) | F68: Volume of Final Product (mL) | G68: g / 100 mL of Malic Acid | H68: Unfit?
C69: =IF(ISERROR(IF(B69>=15,(0.14*B69)+0.5,2.6)),"-",IF(B69>=15,(0.14*B69)+0.5,2.6)) -> 2.6 | G69: =IF(ISERROR(E69/F69)*100,"-",(E69/F69)*100) -> - | H69: =IF(ISNUMBER(G69),IF(G69>=C69,"YES","-"),"-") -> -
B71: Alcohol Content (upper end of range in item 10) | C71: Minimum Value Needed to Make Product Unfit | E71: Amount of Malic Acid (grams) | F71: Volume of Final Product (mL) | G71: g / 100 mL of Malic Acid | H71: Unfit?
C72: =IF(ISERROR(IF(B72>=15,B72*0.14,2.1)),"-",IF(B72>=15,B72*0.14,2.1)) -> 2.1 | G72: =IF(ISERROR(E72/F72)*100,"-",(E72/F72)*100) -> - | H72: =IF(ISNUMBER(G72),IF(G72>=C72,"YES","-"),"-") -> -
A74: Maltol * | B74: 5.3% by weight at 95% v/v ethanol
B75: Alcohol Content (upper end of range in item 10) | C75: Minimum Value Needed to Make Product Unfit | E75: Amount of Maltol (grams) | F75: Weight of Final Product (grams) | G75: % by weight of Maltol | H75: Unfit?
C76: =IF(ISERROR(IF(B76>=15,(B76*5.3)/95,0.837)),"-",IF(B76>=15,(B76*5.3)/95,0.837)) -> 0.837 | G76: =IF(ISERROR((E76/F76)*100),"-",((E76/F76)*100)) -> - | H76: =IF(ISNUMBER(G76),IF(G76>=C76,"YES","-"),"-") -> -
J77: If product contains mitigating ingredients, the following guideline applies:
A78: Propylene Glycol | B78: Equal amounts by volume of ethanol and propylene glycol
B79: Alcohol Content (upper end of range in item 10) | C79: Minimum Value Needed to Make Product Unfit | E79: Amount of Propylene Glycol (grams) | F79: Volume of Final Product (mL) | G79: % by volume of Propylene Glycol | H79: Unfit? | J79: Needed (if product contains mitigating ingredients) | K79: Unfit?
C80: =IF(ISERROR(IF(B80>=15,B80,15)),"-",IF(B80>=15,B80,15)) -> 15 | G80: =IF(ISERROR(((E80/1.036)/F80)*100),"-",(((E80/1.036)/F80)*100)) -> - | H80: =IF(ISNUMBER(G80),IF(G80>=C80,"YES","-"),"-") -> - | J80: =IF(ISERROR(IF(B80>=15,B80*2,30)),"-",IF(B80>=15,B80*2,30)) -> 30 | K80: =IF(ISNUMBER(G80),IF(G80>=J80,"YES","-"),"-") -> -
A82: Quassin Powder * | B82: 20.8 ppm at 95% v/v ethanol
B83: Alcohol Content (upper end of range in item 10) | C83: Minimum Value Needed to Make Product Unfit | E83: Amount of Quassia Powder (grams) | F83: Weight of Final Product (grams) | G83: ppm of Quassia Powder | H83: Unfit?
C84: =IF(ISERROR(IF(B84>=15,(B84*20.8)/95,3.284)),"-",IF(B84>=15,(B84*20.8)/95,3.284)) -> 3.284 | G84: =IF(ISERROR((E84/F84)*1000000),"-",((E84/F84)*1000000)) -> - | H84: =IF(ISNUMBER(G84),IF(G84>=C84,"YES","-"),"-") -> -
A86: Quinine * | B86: 950 ppm at 95% v/v ethanol
B87: Alcohol Content (upper end of range in item 10) | C87: Minimum Value Needed to Make Product Unfit | E87: Amount of Quinine (grams) | F87: Weight of Final Product (grams) | G87: ppm of Quinine | H87: Unfit?
C88: =IF(ISERROR(IF(B88>=15,(B88*950)/95,150)),"-",IF(B88>=15,(B88*950)/95,150)) -> 150 | G88: =IF(ISERROR((E88/F88)*1000000),"-",((E88/F88)*1000000)) -> - | H88: =IF(ISNUMBER(G88),IF(G88>=C88,"YES","-"),"-") -> -
A90: Salt (sodium chloride) * | B90: 6.8 g/100 mL at 95% v/v ethanol
B91: Alcohol Content (upper end of range in item 10) | C91: Minimum Value Needed to Make Product Unfit | E91: Amount of Salt (grams) | F91: Volume of Final Product (mL) | G91: g / 100 mL of Salt | H91: Unfit?
C92: =IF(ISERROR(IF(B92>=21,((B92*6.8)/95),1.5)),"-",(IF(B92>=21,((B92*6.8)/95),1.5))) -> 1.5 | G92: =IF(ISERROR(E92/F92)*100,"-",(E92/F92)*100) -> - | H92: =IF(ISNUMBER(G92),IF(G92>=C92,"YES","-"),"-") -> -
B93: (cannot be scaled below 1.5 g/100mL salt)
A94: Tannic Acid * | B94: 1.6% by weight at 95% v/v ethanol
B95: Alcohol Content (upper end of range in item 10) | C95: Minimum Value Needed to Make Product Unfit | E95: Amount of Tannic Acid (grams) | F95: Weight of Final Product (grams) | G95: % by weight of Tannic Acid | H95: Unfit?
C96: =IF(ISERROR(IF(B96>=15,(B96*1.6)/95,0.253)),"-",IF(B96>=15,(B96*1.6)/95,0.253)) -> 0.253 | G96: =IF(ISERROR((E96/F96)*100),"-",((E96/F96)*100)) -> - | H96: =IF(ISNUMBER(G96),IF(G96>=C96,"YES","-"),"-") -> -
A98: Tartaric Acid * | B98: Ethanol ≤ 30% v/v – acid must be ≥ [(0.13 × ethanol %) + 0.5] (g/100 mL)
B99: Ethanol > 30% v/v – acid must be ≥ [0.13 × ethanol %] (g/100 mL)
B101: Alcohol Content (upper end of range in item 10) | C101: Minimum Value Needed to Make Product Unfit | E101: Amount of Tartaric Acid (grams) | F101: Volume of Final Product (mL) | G101: g / 100 mL of Tartaric Acid | H101: Unfit?
C102: =IF(ISERROR(IF(B102>=15,(0.13*B102)+0.5,2.45)),"-",IF(B102>=15,(0.13*B102)+0.5,2.45)) -> 2.45 | G102: =IF(ISERROR((E102/F102)*100),"-",((E102/F102)*100)) -> - | H102: =IF(ISNUMBER(G102),IF(G102>=C102,"YES","-"),"-") -> -
B104: Alcohol Content (upper end of range in item 10) | C104: Minimum Value Needed to Make Product Unfit | E104: Amount of Tartaric Acid (grams) | F104: Volume of Final Product (mL) | G104: g / 100 mL of Tartaric Acid | H104: Unfit?
C105: =IF(ISERROR(IF(B105>=15,B105*0.13,1.95)),"-",IF(B105>=15,B105*0.13,1.95)) -> 1.95 | G105: =IF(ISERROR((E105/F105)*100),"-",((E105/F105)*100)) -> - | H105: =IF(ISNUMBER(G105),IF(G105>=C105,"YES","-"),"-") -> -
A107: Triacetin * | B107: 2.5% by weight at 95% v/v ethanol
B108: Alcohol Content (upper end of range in item 10) | C108: Minimum Value Needed to Make Product Unfit | E108: Amount of Triacetin (grams) | F108: Weight of Final Product (grams) | G108: % by weight of Triacetin | H108: Unfit?
C109: =IF(ISERROR(IF(B109>=15,(B109*2.5)/95,0.395)),"-",(IF(B109>=15,(B109*2.5)/95,0.395))) -> 0.395 | G109: =IF(ISERROR((E109/F109)*100),"-",((E109/F109)*100)) -> - | H109: =IF(ISNUMBER(G109),IF(G109>=C109,"YES","-"),"-") -> -
A111: Triethyl Citrate * | B111: 2.5% by weight at 95% v/v ethanol
B112: Alcohol Content (upper end of range in item 10) | C112: Minimum Value Needed to Make Product Unfit | E112: Amount of Triethyl Citrate (grams) | F112: Weight of Final Product (grams) | G112: % by weight of Triethyl Citrate | H112: Unfit?
C113: =IF(ISERROR(IF(B113>=15,(B113*2.5)/95,0.395)),"-",IF(B113>=15,(B113*2.5)/95,0.395)) -> 0.395 | G113: =IF(ISERROR((E113/F113)*100),"-",((E113/F113)*100)) -> - | H113: =IF(ISNUMBER(G113),IF(G113>=C113,"YES","-"),"-") -> -
A115: Vanillin * | B115: 3.2 av.oz./gal at 95% v/v ethanol
B116: Alcohol Content (upper end of range in item 10) | C116: Minimum Value Needed to Make Product Unfit | E116: Amount of Vanillin (grams) | F116: Volume of Final Product (mL) | G116: av.oz. / gal of Vanillin | H116: Unfit?
C117: =IF(ISERROR(IF(B117>=15,(B117*3.2)/95,0.505)),"-",IF(B117>=15,(B117*3.2)/95,0.505)) -> 0.505 | G117: =IF(ISERROR((E117*0.0353)/(F117/3785.33)),"-",((E117*0.0353)/(F117/3785.33))) -> - | H117: =IF(ISNUMBER(G117),IF(G117>=C117,"YES","-"),"-") -> -
A119: Washed Extracts * | B119: 6.33% by weight at 95% v/v ethanol
B120: Alcohol Content (upper end of range in item 10) | C120: Minimum Value Needed to Make Product Unfit (wt%) | E120: Amount of Oil (grams) | F120: Theoretical Yield Weight (grams) | G120: % by weight of Oil | H120: Unfit?
C121: =IF(ISERROR(IF(B121>=15,(B121*6.33)/95,1)),"-",IF(B121>=15,(B121*6.33)/95,1)) -> 1 | G121: =IF(ISERROR((E121/F121)*100),"-",((E121/F121)*100)) -> - | H121: =IF(ISNUMBER(G121),IF(G121>=C121,"YES","-"),"-") -> -
B122: (applies to individual oils and a combination of citrus oils)
A123: Flavor Chemicals unfit at 1% * | B123: 1% by weight at 95% v/v ethanol
B124: Alcohol Content (upper end of range in item 10) | C124: Minimum Value Needed to Make Product Unfit | E124: Amount of Flavor Chemical (grams) | F124: Weight of Final Product (grams) | G124: % by weight of Flavor Chemical | H124: Unfit?
C125: =IF(ISERROR(IF(B125>=15,B125/95,0.158)),"-",IF(B125>=15,B125/95,0.158)) -> 0.158 | G125: =IF(ISERROR((E125/F125)*100),"-",((E125/F125)*100)) -> - | H125: =IF(ISNUMBER(G125),IF(G125>=C125,"YES","-"),"-") -> -
B126: (cannot be scaled below 15% alcohol)
A127: Total Flavor Chemicals | B127: 2% by weight at 95% v/v ethanol
B128: Alcohol Content (upper end of range in item 10) | C128: Minimum Value Needed to Make Product Unfit | E128: Amount of Flavor Chemicals (grams) | F128: Weight of Final Product (grams) | G128: % by weight of Flavor Chemicals | H128: Unfit?
...

Sheet 1% Solutions
A1: 1% Solutions List | H1: ='Flavor Unfitness Worksheet'!J1 -> Version 2026.1
A2: Enter the FEMA # in the box to look up the chemical. If "NO" is displayed, either the chemical is not on the list or you have an incorrect FEMA #. Search the list below to double check. | D2: FEMA #
D3: On list? | E3: =IF(ISNUMBER(E2),IF(F3="-","NO","YES"),"-") -> - | F3: =IF(ISERROR(VLOOKUP(E2,A7:C627,3,FALSE)),"-",(VLOOKUP(E2,A7:C627,3,FALSE))) -> -
A4: Refer to the Primary Guidelines tabs for fitness calculations. | F4: =IF(ISERROR(IF(VLOOKUP(E2,A7:E485,2,FALSE)="Nat","Natural Only",IF(VLOOKUP(E2,A7:E485,2,FALSE)="Art","Artificial Only"," ")))," ",(IF(VLOOKUP(E2,A7:E485,2,FALSE)="Nat","Natural Only",IF(VLOOKUP(E2,A7:E485,2,FALSE)="Art","Artificial Only"," "))))
C5: * All chemicals listed can be either natural or artifical unless otherwise stated *
A6: FEMA # | B6: Natural or Artifical Only? | C6: Substance Name | E6: CAS # | F6: Synonym
A7: 2002 | C7: Acetal | E7: 105-57-7 | F7: Acetaldehyde Diethyl Acetal
A8: 2003 | C8: Acetaldehyde | E8: 75-07-0 | F8: Ethanal
A9: 2005 | C9: Acetanisole | E9: 100-06-01 | F9: 4-Acetylanisol
A10: 2008 | C10: Acetoin | E10: 513-86-0 | F10: Acetyl Methyl Carbinol
A11: 2009 | C11: Acetophenone | E11: 98-86-2 | F11: Methyl Phenyl Ketone
A12: 2018 | B12: Nat | C12: Allspice Oil | E12: 8006-77-7 | F12: Pimenta Berry Oil
A13: 2028 | C13: Allyl Disulfide | E13: 2179-57-9 | F13: Diallyl disulfide
A14: 2032 | C14: Allyl Hexanoate | E14: 123-68-2 | F14: Allyl Caproate
A15: 2034 | C15: Allyl Isothiocyanate | E15: 57-06-7 | F15: 2-Propenyl Isothiocyanate
A16: 2035 | C16: Allyl Mercaptan | E16: 87-23-5 | F16: 2-Propene-1-thiol
A17: 2036 | C17: Allyl Nonanoate | E17: 7493-72-3 | F17: 2-Propenyl Nonanoate
A18: 2037 | C18: Allyl Octanoate | E18: 4230-97-1 | F18: Allyl Caprylate
A19: 2042 | C19: Allyl Sulfide | E19: 592-88-1 | F19: Diallyl Sulfide
A20: 2045 | C20: Allyl Isovalerate | E20: 2835-39-4 | F20: 2-Propenyl Isopentanoate
A21: 2046 | B21: Nat | C21: Bitter Almond Oil | E21: 8013-76-1
A22: 2051 | B22: Nat | C22: Ambrette Seed Oil | E22: 8015-62-1 | F22: Hibiscus abelmoschus seed oil
A23: 2053 | C23: Ammonium Sulfide | E23: 12124-99-1
A24: 2055 | C24: Isoamyl Acetate | E24: 123-92-2 | F24: Isopentyl Ethanoate
A25: 2059 | C25: Amyl Butyrate | E25: 540-18-1 | F25: Pentyl Butyrate
A26: 2061 | C26: a-Amyl Cinnamicaldehyde | E26: 122-40-7 | F26: Heptanal,2-(phenyl methylene)
A27: 2069 | C27: Isoamyl Formate | E27: 110-45-2
A28: 2073 | C28: Amyl Heptanoate | E28: 7493-82-5 | F28: Pentyl Heptanoate
A29: 2074 | C29: Amyl Hexanoate | E29: 540-07-8 | F29: Amyl Caproate
A30: 2075 | C30: Isoamyl Hexanoate | E30: 2198-61-0 | F30: Isoamyl Caproate
A31: 2079 | C31: Amyl Octanoate | E31: 638-25-5 | F31: Amyl Caprylate
A32: 2080 | C32: Isoamyl Octanoate | E32: 2035-99-6 | F32: Isoamyl Caprylate
A33: 2082 | C33: Isoamyl Propionate | E33: 105-68-0 | F33: 1-Butanol, 3-methylpropanoate
A34: 2085 | C34: Isoamyl Isovalerate | E34: 659-70-1 | F34: 3-Methylbutyl 3-methylbutyrate
A35: 2088 | B35: Nat | C35: Angelica Root Oil | E35: 8015-64-3 | F35: Angelica archangelica L.
E36: 8007-70-3
A37: 2098 | B37: Nat | C37: p-Anisyl Acetate | E37: 104-21-2
A38: 2116 | B38: Nat | C38: Balsam, Peru | E38: 8007-00-9 | F38: Peru Balsam Myroxylon pereirae Kotzsch
A39: 2119 | B39: Nat | C39: Basil Oil | E39: 8015-73-4 | F39: Ocimum basilicum L.
A40: 2125 | B40: Nat | C40: Bay Oil, sweet | E40: 8007-48-5 | F40: Laurus nobilis L.
A41: 2126 | B41: Nat | C41: Beeswax Absolute | E41: 8012-89-3 | F41: Apis mellifera L.
A42: 2127 | C42: Benzaldehyde | E42: 100-52-7
A43: 2134 | B43: Nat | C43: Benzophenone | E43: 119-61-9 | F43: Diphenylmethanone
A44: 2135 | C44: Benzyl Acetate | E44: 140-11-4 | F44: Methyl Phenylethanoate
A45: 2137 | C45: Benzyl Alcohol | E45: 100-51-6 | F45: Phenylmethanol
A46: 2138 | C46: Benzyl Benzoate | E46: 120-51-4 | F46: Phenylmethyl Benzoate
A47: 2140 | C47: Benzyl Butyrate | E47: 103-37-7 | F47: Benzyl Butanoate
A48: 2141 | C48: Benzyl Isobutyrate | E48: 103-28-6 | F48: Benzyl 2-methylpropanoate
A49: 2142 | C49: Benzyl Cinnamate | E49: 103-41-3 | F49: Benzyl 3-phenylpropenoate
A50: 2145 | C50: Benzyl Formate | E50: 104-57-4 | F50: Benzyl Methanoate
A51: 2150 | C51: Benzyl Propionate | E51: 122-63-4 | F51: Benzyl Propanoate
A52: 2152 | C52: Benzyl Isovalerate | E52: 103-38-8 | F52: Benzyl Isopentanoate
A53: 2153 | B53: Nat | C53: Bergamot Oil | E53: 8007-75-8 | F53: Citrus aurantium bergamia
A54: 2156 | B54: Nat | C54: Bois de Rose | E54: 8015-77-8 | F54: Aniba roseodora
A55: 2158 | C55: Isoborneol | E55: 124-76-5
A56: 2167 | B56: Nat | C56: Boronia Oil | E56: 91771-36-7 | F56: Boronia megastigma Nees
A57: 2169 | B57: Nat | C57: Buchu Leaves Oil | E57: 68650-46-4 | F57: Barosma spp.
A58: 2174 | C58: Butyl Acetate | E58: 123-86-4 | F58: Butyl Ethanoate
A59: 2175 | C59: Isobutyl Acetate | E59: 110-19-0 | F59: Isobutyl Ethanoate
A60: 2176 | C60: Butyl Acetoacetate | E60: 591-60-6 | F60: Butyl 3-ketobutanoate
A61: 2187 | C61: Isobutyl Butyrate | E61: 539-90-2 | F61: 2-Methyl-1-propyl butyrate
A62: 2188 | C62: Butyl Isobutyrate | E62: 97-87-0 | F62: Butyl 2-methyl propanoate
A63: 2190 | C63: Butyl Butyryl Lactate | E63: 7492-70-8
A64: 2196 | C64: Butyl Formate | E64: 591-84-7 | F64: Butyl Methanoate
A65: 2199 | C65: Butyl Heptanoate | E65: 5454-28-4
A66: 2201 | C66: Butyl Hexanoate | E66: 626-82-4 | F66: Butyl Caproate
A67: 2202 | C67: Isobutyl Hexanoate | E67: 105-79-3 | F67: Isobutyl Caproate
A68: 2212 | C68: Isobutyl Propionate | E68: 540-42-1 | F68: 2-Methyl-1-propyl propanoate
A69: 2215 | C69: Butyl Sulfide | E69: 540-40-1
A70: 2218 | C70: Butyl Isovalerate | E70: 109-19-3 | F70: Butyl 3-methyl butanoate
A71: 2219 | C71: Butyraldehyde | E71: 123-72-8 | F71: n-Butanal
A72: 2220 | C72: Isobutyraldehyde | E72: 78-84-2 | F72: 2-Methyl Propanal
A73: 2221 | C73: Butyric Acid | E73: 107-92-6 | F73: Butanoic Acid
A74: 2222 | C74: Isobutyric Acid | E74: 79-31-2 | F74: 2-Methyl propanoic acid
A75: 2234 | B75: Nat | C75: Capsicum Oleoresin | E75: 8023-77-6
A76: 2238 | B76: Nat | C76: Caraway Oil | E76: 8000-42-8 | F76: Carum carvi L.
A77: 2241 | B77: Nat | C77: Cardamom Seed Oil | E77: 8000-66-6 | F77: Elettaria cardamomum (L.) Maton
A78: 2244 | B78: Nat | C78: Carrot Oil | E78: 8015-88-1 | F78: Daucus carota L.
A79: 2245 | C79: Carvacrol | E79: 499-75-2 | F79: 2-Methyl-5-isopropyl phenol
A80: 2246 | C80: Carvacryl Ethyl Ether | E80: 4732-13-2 | F80: Ethyl Carvacrol
A81: 2248 | C81: 4-Carvomenthenol | E81: 562-74-3 | F81: b-Terpineol
A82: 2249 | C82: Carvone | E82: 99-49-0 | F82: 1-Methyl-4-isopropenyl-6-cylcohexen-2-one
A83: 2252 | C83: b-Caryophyllene | E83: 87-44-5
A84: 2258 | B84: Nat | C84: Cassia Bark Oil | E84: 8007-80-5 | F84: Cinnamon Oil
A85: 2260 | B85: Nat | C85: Cassie Absolute | E85: 89958-31-6 | F85: Acacia faresciana (L.) Wild
A86: 2261 | B86: Nat | C86: Castoreum Resin Natural | E86: 8023-83-4 | F86: Castor spp.
A87: 2267 | B87: Nat | C87: Cedar Leaf Oil | E87: 8007-20-3 | F87: Thuja occidentalis
A88: 2271 | B88: Nat | C88: Celery Seed Oil | E88: 8015-90-5 | F88: Apium graveolens L.
A89: 2275 | B89: Nat | C89: Chamomile Flower, Roman Oil | E89: 8015-92-7 | F89: Anthemis nobilis (L.)
A90: 2286 | C90: Cinnamaldehyde | E90: 104-55-2 | F90: Cinnamic Aldehyde
A91: 2288 | C91: Cinnamic Acid | E91: 621-82-9 | F91: 3-Phenyl propenoic acid
A92: 2291 | B92: Nat | C92: Cinnamon Bark Oil | E92: 8015-91-6 | F92: Cinnamomum spp. bark oil
A93: 2292 | B93: Nat | C93: Cinnamon Leaf Oil | E93: 8015-91-6 | F93: Cinnamomum spp. leaf oil
A94: 2293 | C94: Cinnamyl Acetate | E94: 103-54-8 | F94: 3-Phenyl-2-propen-1-ol acetate
A95: 2294 | C95: Cinnamyl Alcohol | E95: 104-54-1 | F95: Cinnamic Alcohol
A96: 2301 | C96: Cinnamyl Propionate | E96: 103-56-0
A97: 2302 | C97: Cinnamyl Isovalerate | E97: 140-27-2 | F97: 3-Phenyl-2-propen-1-yl-3-methyl butanoate
A98: 2303 | C98: Citral | E98: 5392-40-5
A99: 2307 | C99: Citronellal | E99: 106-23-0 | F99: Rhodinal, 3,7-Dimethyl-6-octenal
A100: 2308 | C100: Citronella oil
...

Sheet Botanical Ext & Dietary Supp
A1: Botanical Extracts & Dietary Supplement Fitness Calculations | L1: ='Flavor Unfitness Worksheet'!J1 -> Version 2026.1
A2: For most botanical extracts and dietary supplements, 1 lb. of dry herb per gallon of finished product is sufficient to make the product unfit for beverage purposes. ** This guideline may not apply if the product contains any mitigating ingredients. **
B4: Examples of mitigating ingredients include, but are not limited to:
B5: Sugars (ex. Cane Sugar, Brown Sugar, Beet Sugar, etc.) | G5: Glycerine | K5: Fruit Extracts
B6: Artificial Sweetners (ex. Sucralose, Aspertame, Acesulfame K, etc.) | G6: High Fructose Corn Syrup | K6: Stevia
B7: Sugar Alcohols (ex. Sorbitol, Maltitol, Xylitol, etc.) | G7: Molasses | K7: Honey
B8: Fruit Juices (ex. Cherry Juice, Apple Juice, etc.) | G8: Glycyrrhizin | K8: Nulomoline
B9: Syrups (ex. Maple Syrup, Agave Syrup, Malt Syrup, etc.) | G9: Mono-Ammonium Glycyrrhizinate | K9: Inulin
B10: Extracts (Beet Extract, St. John's Extract, Licorice Extract, etc.) | G10: Fructose, Glucose, etc. | K10: Invert Sugar
B19: GROUP 1. For the following materials, a minimum of 2 lbs/gal is needed to make the product unfit:
B20: Fennel
B21: Ginseng
B22: Lemon Balm
B24: GROUP 2. For the following materials, a minimum of 4 lbs/gal is needed to make the product unfit:
B25: Licorice
B27: GROUP 3. For the following materials, more information is needed to determine unfitness. A taste panel must be included with the submission and further analysis may be required. Including, but not limited to:
B28: Anise
B29: Cinnamon
B30: Coffee
B31: Fruits
B32: Nuts - such as Cashew or Walnut
... B37: Vegetables - such as Carrot or Cucumber
A39: ** For products listed in Group 3, provide a company taste panel using the organoleptic guidelines found in the Drawback Tutorial.**
A42: Pounds/Gallons:
B43: Weight of Herb (lbs) | D43: Moisture Content (percent) | F43: Final Volume (gal) | H43: Final Product (lbs/gal) | J43: Unfit?
H44: =IF(F44>0,((B44-(B44*D44))/F44),"-") -> - | J44: =IF(ISNUMBER(H44),IF(H44>=0.995,"YES","-"),"-") -> -
A46: Grams/Milliliters:
B47: Weight of Herb (grams) | D47: Moisture Content (percent) | F47: Final Volume (mL) | H47: Final Product (lbs/gal) | J47: Unfit?
H48: =IF(F48>0,(((B48/453.5924)-((B48/453.5924)*D48))/(F48/3785.33)),"-") -> - | J48: =IF(ISNUMBER(H48),IF(H48>=0.995,"YES","-"),"-") -> -
A50: Weight Ounces/Fluid Ounces:
B51: Weight of Herb (ounces) | D51: Moisture Content (percent) | F51: Final Volume (fluid ounces) | H51: Final Product (lbs/gal) | J51: Unfit?
H52: =IF(F52>0,(((B52/16)-((B52/16)*D52))/(F52/128)),"-") -> - | J52: =IF(ISNUMBER(H52),IF(H52>=0.995,"YES","-"),"-") -> -
A54: Use the conversion calculator below if you need to convert weight or volume to a different unit.
B56: Weight Conversions: | H56: Volume Conversions:
B57: pounds | C57: to | D57: grams | E57: weight ounces | H57: gallons | I57: to | J57: mL | K57: fluid ounces
D58: =IF(ISERROR(IF(AND(B58>0),(B58*453.5924),"-")),"-",IF(AND(B58>0),(B58*453.5924),"-")) -> - | E58: =IF(ISERROR(IF(AND(B58>0),(B58*16),"-")),"-",IF(AND(B58>0),(B58*16),"-")) -> - | J58: =IF(ISERROR(IF(AND(H58>0),(H58*3785.33),"-")),"-",IF(AND(H58>0),(H58*3785.33),"-")) -> - | K58: =IF(ISERROR(IF(AND(H58>0),(H58*128),"-")),"-",IF(AND(H58>0),(H58*128),"-")) -> -
B59: grams | C59: to | D59: pounds | E59: weight ounces | H59: mL | I59: to | J59: gallons | K59: fluid ounces
D60: =IF(ISERROR(IF(AND(B60>0),(B60/453.5924),"-")),"-",IF(AND(B60>0),(B60/453.5924),"-")) -> - | E60: =IF(ISERROR(IF(AND(B60>0),((B60/453.5924)*16),"-")),"-",IF(AND(B60>0),((B60/453.5924)*16),"-")) -> - | J60: =IF(ISERROR(IF(AND(H60>0),(H60/3785.33),"-")),"-",IF(AND(H60>0),(H60/3785.33),"-")) -> - | K60: =IF(ISERROR(IF(AND(H60>0),((H60/3785.33)*128),"-")),"-",IF(AND(H60>0),((H60/3785.33)*128),"-")) -> -
B61: weight ounces | C61: to | D61: pounds | E61: grams | H61: fluid ounces | I61: to | J61: gallons | K61: mL
D62: =IF(ISERROR(IF(AND(B62>0),(B62/16),"-")),"-",IF(AND(B62>0),(B62/16),"-")) -> - | E62: =IF(ISERROR(IF(AND(B62>0),((B62/16)*453.5924),"-")),"-",IF(AND(B62>0),((B62/16)*453.5924),"-")) -> - | J62: =IF(ISERROR(IF(AND(H62>0),(H62/128),"-")),"-",IF(AND(H62>0),(H62/128),"-")) -> - | K62: =IF(ISERROR(IF(AND(H62>0),((H62/128)*3785.33),"-")),"-",IF(AND(H62>0),((H62/128)*3785.33),"-")) -> -

Sheet 0.1% Solutions
A1: Substance Name | B1: FEMA # | D1: ='Flavor Unfitness Worksheet'!J1 -> Version 2026.1
A2: Boronia Absolute | B2: 2167
A3: Buchu Oil | B3: 2169
A4: Butyl Sulfide | B4: 2215
A5: Caraway Oil | B5: 2238
A6: Citronella Oil | B6: 2308
A7: Citronella oil | B7: 2308
A8: Citronellol | B8: 2309
A9: Clove Bud Oil | B9: 2323
A10: Cognac Oil | B10: 2332
A11: Coriander Oil | B11: 2334
A12: Cuminaldehyde | B12: 2341
A13: Davana Oil | B13: 2359
... A71: Vetiver Oil | B71: 4217
A72: Horseradish
A73: Mustard Oil, black

Sheet GRAS Materials
A1: CAS | B1: FEMA # | C1: Synonym | D1: Principal Name | E1: Additional Information | G1: ='Flavor Unfitness Worksheet'!J1 -> Version 2026.1
A2: 9000-01-5 | B2: 2001 | C2: Acacia gum (Acacia senegal (L.) Willd.)
A3: 9000-01-5 | B3: 2001 | C3: Acacia senegal gum | D3: Acacia gum (Acacia senegal (L.) Willd.)
A4: 9000-01-5 | B4: 2001 | C4: Arabic gum | D4: Acacia gum (Acacia senegal (L.) Willd.)
A5: 9000-01-5 | B5: 2001 | C5: Gum arabic | D5: Acacia gum (Acacia senegal (L.) Willd.)
A6: 105-57-7 | B6: 2002 | C6: Acetal
A7: 105-57-7 | B7: 2002 | C7: Acetaldehyde, diethyl acetal | D7: Acetal
A8: 105-57-7 | B8: 2002 | C8: 1,1-Diethoxyethane | D8: Acetal
A9: 105-57-7 | B9: 2002 | C9: Diethyl acetal | D9: Acetal
A10: 105-57-7 | B10: 2002 | C10: Ethane, 1,1-diethoxy- | D10: Acetal
A11: 105-57-7 | B11: 2002 | C11: Ethylidine diethyl ether | D11: Acetal
A12: 75-07-0 | B12: 2003 | C12: Acetaldehyde
A13: 75-07-0 | B13: 2003 | C13: Acetic aldehyde | D13: Acetaldehyde
A14: 75-07-0 | B14: 2003 | C14: Ethanal | D14: Acetaldehyde
A15: 7493-57-4 | B15: 2004 | C15: Acetaldehyde phenethyl propyl acetal | D15: Propyl phenethyl acetal
A16: 7493-57-4 | B16: 2004 | C16: Acetal R | D16: Propyl phenethyl acetal
A17: 7493-57-4 | B17: 2004 | C17: Benzene, [2-(1-propoxyethoxy)ethyl]- | D17: Propyl phenethyl acetal
A18: 7493-57-4 | B18: 2004 | C18: 1-Phenethoxy-1-propoxyethane | D18: Propyl phenethyl acetal
A19: 7493-57-4 | B19: 2004 | C19: (2-(1-Propoxyethoxy)ethyl)benzene | D19: Propyl phenethyl acetal
A20: 7493-57-4 | B20: 2004 | C20: Propyl phenethyl acetal
A21: 100-06-1 | B21: 2005 | C21: Acetanisole
A22: 100-06-1 | B22: 2005 | C22: 4-Acetylanisole | D22: Acetanisole
A23: 100-06-1 | B23: 2005 | C23: p-Acetylanisole | D23: Acetanisole
A24: 100-06-1 | B24: 2005 | C24: Ethanone, 1-(4-methoxyphenyl)- | D24: Acetanisole
A25: 100-06-1 | B25: 2005 | C25: 4'-Methoxyacetophenone | D25: Acetanisole
A26: 100-06-1 | B26: 2005 | C26: p-Methoxyacetophenone | D26: Acetanisole
A27: 100-06-1 | B27: 2005 | C27: Methyl 4-methoxyphenyl ketone | D27: Acetanisole
A28: 64-19-7 | B28: 2006 | C28: Acetic acid
A29: 64-19-7 | B29: 2006 | C29: Acetic acid, of a concentration of more than 10 percent, by weight, of acetic acid | D29: Acetic acid
A30: 64-19-7 | B30: 2006 | C30: Ethanoic acid | D30: Acetic acid
A31: 102-76-1 | B31: 2007 | C31: (tri-)Acetin
A32: 102-76-1 | B32: 2007 | C32: Enzactin | D32: (tri-)Acetin
A33: 102-76-1 | B33: 2007 | C33: Glyceryl triacetate | D33: (tri-)Acetin
A34: 102-76-1 | B34: 2007 | C34: 1,2,3-Propanetriol, triacetate | D34: (tri-)Acetin
A35: 102-76-1 | B35: 2007 | C35: Triacetin | D35: (tri-)Acetin
A36: 102-76-1 | B36: 2007 | C36: Vanay | D36: (tri-)Acetin
A37: 513-86-0 | B37: 2008 | C37: Acetoin
A38: 513-86-0 | B38: 2008 | C38: Acetyl methyl carbinol | D38: Acetoin
A39: 513-86-0 | B39: 2008 | C39: 2,3-Butanolone | D39: Acetoin
A40: 513-86-0 | B40: 2008 | C40: 2-Butanone, 3-hydroxy- | D40: Acetoin
A41: 513-86-0 | B41: 2008 | C41: Dimethylketol | D41: Acetoin
A42: 513-86-0 | B42: 2008 | C42: 3-Hydroxy-2-butanone | D42: Acetoin
A43: 513-86-0 | B43: 2008 | C43: gamma-Hydroxy-beta-oxobutane | D43: Acetoin
A44: 98-86-2 | B44: 2009 | C44: Acetophenone
A45: 98-86-2 | B45: 2009 | C45: Acetylbenzene | D45: Acetophenone
A46: 98-86-2 | B46: 2009 | C46: Acetylbenzol | D46: Acetophenone
A47: 98-86-2 | B47: 2009 | C47: Benzoyl methide | D47: Acetophenone
A48: 98-86-2 | B48: 2009 | C48: Ethanone, 1-phenyl- | D48: Acetophenone
A49: 98-86-2 | B49: 2009 | C49: Methyl phenyl ketone | D49: Acetophenone
A50: 98-86-2 | B50: 2009 | C50: Phenyl methyl ketone | D50: Acetophenone
A51: 499-12-7 | B51: 2010 | C51: Achilleic acid | D51: Aconitic acid
A52: 499-12-7 | B52: 2010 | C52: Aconitic acid
A53: 499-12-7 | B53: 2010 | C53: 2-Carboxyglutaconic acid | D53: Aconitic acid
A54: 499-12-7 | B54: 2010 | C54: Citridic acid | D54: Aconitic acid
A55: 499-12-7 | B55: 2010 | C55: Equisetic acid | D55: Aconitic acid
A56: 499-12-7 | B56: 2010 | C56: 1,2,3-Propenetricarboxylic acid | D56: Aconitic acid
A57: 499-12-7 | B57: 2010 | C57: 1-Propene-1,2,3-tricarboxylic acid | D57: Aconitic acid
A58: 124-04-9 | B58: 2011 | C58: Adipic acid
A59: 124-04-9 | B59: 2011 | C59: 1,4-Butanedicarboxylic acid | D59: Adipic acid
A60: 124-04-9 | B60: 2011 | C60: Hexanedioic acid | D60: Adipic acid
A61: 9002-18-0 | B61: 2012 | C61: Agar (Gelidium spp.)
A62: 84082-36-0 | B62: 2013 | C62: Alfalfa extract (Medicago sativa L.)
A63: 84082-36-0 | B63: 2013 | C63: Medicago sativa extract | D63: Alfalfa extract (Medicago sativa L.)
A64: 9005-38-3 | B64: 2014 | C64: Algin (Laminaria spp. and other kelps)
A65: 9005-35-0 | B65: 2015 | C65: Alginates, sodium, calcium, and ammonium
A66: 9005-35-0 | B66: 2015 | C66: Ammonium alginate | D66: Alginates, sodium, calcium, and ammonium
A67: 9005-35-0 | B67: 2015 | C67: Calcium alginate | D67: Alginates, sodium, calcium, and ammonium
A68: 9005-35-0 | B68: 2015 | C68: Sodium alginate | D68: Alginates, sodium, calcium, and ammonium
A69: 8006-77-7 | B69: 2017 | C69: Allspice (Pimenta officinalis Lindl.)
A70: 8006-77-7 | B70: 2017 | C70: Pimenta officinalis | D70: Allspice (Pimenta officinalis Lindl.)
A71: 8006-77-7 | B71: 2018 | C71: Allspice, ext. | D71: Allspice oil (Pimenta officinalis Lindl.)
A72: 8006-77-7 | B72: 2018 | C72: Allspice oil (Pimenta officinalis Lindl.)
A73: 8006-77-7 | B73: 2018 | C73: Pimenta berry oil (Pimenta officinalis Lindley) | D73: Allspice oil (Pimenta officinalis Lindl.)
A74: 8006-77-7 | B74: 2018 | C74: Pimenta officinalis berry oil | D74: Allspice oil (Pimenta officinalis Lindl.)
A75: 8006-77-7 | B75: 2018 | C75: Pimenta oil | D75: Allspice oil (Pimenta officinalis Lindl.)
A76: 8006-77-7 | B76: 2018 | C76: Pimento oil | D76: Allspice oil (Pimenta officinalis Lindl.)
A77: 8006-77-7 | B77: 2019 | C77: Allspice oleoresin (Pimenta officinalis Lindl.)
A78: 8006-77-7 | B78: 2019 | C78: Pimenta officinalis oleoresin | D78: Allspice oleoresin (Pimenta officinalis Lindl.)
A79: 7493-63-2 | B79: 2020 | C79: Allyl 2-aminobenzoate | D79: Allyl anthranilate
A80: 7493-63-2 | B80: 2020 | C80: Allyl o-aminobenzoate | D80: Allyl anthranilate
A81: 7493-63-2 | B81: 2020 | C81: Allyl anthranilate
A82: 7493-63-2 | B82: 2020 | C82: Benzoic acid, 2-amino-, 2-propenyl ester | D82: Allyl anthranilate
A83: 7493-63-2 | B83: 2020 | C83: 2-Propenyl 2-aminobenzoate | D83: Allyl anthranilate
A84: 7493-63-2 | B84: 2020 | C84: 2-Propenyl anthranilate | D84: Allyl anthranilate
A85: 7493-63-2 | B85: 2020 | C85: Vinyl carbinyl anthranilate | D85: Allyl anthranilate
A86: 2051-78-7 | B86: 2021 | C86: Allyl butyrate
A87: 2051-78-7 | B87: 2021 | C87: Butanoic acid, 2-propenyl ester | D87: Allyl butyrate
A88: 2051-78-7 | B88: 2021 | C88: 2-Propen-1-yl butanoate | D88: Allyl butyrate
A89: 1866-31-5 | B89: 2022 | C89: Allyl cinnamate
A90: 1866-31-5 | B90: 2022 | C90: Allyl beta-phenylacrylate | D90: Allyl cinnamate
A91: 1866-31-5 | B91: 2022 | C91: Allyl 3-phenyl-2-propenoate | D91: Allyl cinnamate
A92: 1866-31-5 | B92: 2022 | C92: 2-Propenoic acid, 3-phenyl-, 2-propenyl ester | D92: Allyl cinnamate
A93: 1866-31-5 | B93: 2022 | C93: Propenyl cinnamate | D93: Allyl cinnamate
A94: 1866-31-5 | B94: 2022 | C94: 2-Propen-1-yl 3-phenyl-2-propenoate | D94: Allyl cinnamate
A95: 1866-31-5 | B95: 2022 | C95: Vinyl carbinyl cinnamate | D95: Allyl cinnamate
A96: 4728-82-9 | B96: 2023 | C96: Allyl cyclohexaneacetate
A97: 4728-82-9 | B97: 2023 | C97: Allyl cyclohexylacetate | D97: Allyl cyclohexaneacetate
A98: 4728-82-9 | B98: 2023 | C98: Allyl hexahydrophenylacetate | D98: Allyl cyclohexaneacetate
A99: 4728-82-9 | B99: 2023 | C99: Cyclohexaneacetic acid, 2-propenyl ester | D99: Allyl cyclohexaneacetate
A100: 4728-82-9 | B100: 2023 | C100: 2-Propen-1-yl cyclohexaneacetate | D100: Allyl cyclohexaneacetate
...

Sheet Limited Ingredient List
A1: Flavoring Substances and Adjuvants Subject to Limitation or Restriction | F1: ='Flavor Unfitness Worksheet'!J1 -> Version 2026.1
A6: Material | B6: Relevant FEMA Numbers * | C6: Reference | D6: Current Limit | E6: Food category and/or Use
A7: Acacia - Gum Arabic | B7: 2001, 4227 | C7: 21CFR172.780 | D7: 20.0% | E7: Alcoholic Beverages; Function: Thickener, emulsifier, or stabilizer
A8: Acetic Acid | B8: 2006 | C8: 21CFR184.1005 | D8: 0.15% | E8: All other food categories
A9: Aconitic Acid | B9: 2010 | C9: 21CFR184.1007 | D9: 0.002% | E9: Alcoholic Beverages
A10: Adipic Acid | B10: 2011 | C10: 21CFR184.1009 | D10: 0.02% | E10: All other food categories
A11: Agar-agar | B11: 2012 | C11: 21CFR184.1115 | D11: .25% | E11: All other food categories
A12: Ammonium Alginate | B12: 2015 | C12: 21CFR184.1133 | D12: 0.1% | E12: All other food categories
A13: Artemisia (Wormwood) | B13: 3114, 3115, 3116 | C13: 21 CFR172.510 | D13: Finished Food Thujone Free | E13: Natural flavoring substance or natural substance used in conjunction with flavors; In the appropriate forms (plant parts, fluid and solid extracts, concentrates, absolutes, oils, gums, balsams, resins, oleoresins, waxes, and distillates)
A14: Bakers Yeast Extract | C14: 21CFR184.1983 | D14: 5% | E14: The ingredient is used as a flavoring agent and adjuvant as defined in 21 CFR170.3(o)(12) at a level not to exceed 5 percent in food.
A15: Beeswax Yellow & White | B15: 2126 | C15: 21CFR184.1973 | D15: 0.002% | E15: All other food categories
A16: Benzoic Acid | B16: 2131 | C16: 21CFR184.1021 | D16: 0.1% | E16: The ingredient is used as an antimicrobial agent as defined in 170.3(o)(2) and as a flavoring agent and adjuvant as defined in 21 CFR170.3(o)(12). The ingredient is used in food at levels not to exceed good manufacturing practice. Current usage results in a maximum level of 0.1 percent in food.
A17: Butylated hydroxyanisole (BHA) | B17: 2183 | C17: 21CFR182.3169 | D17: 0.02% of fat or oil content | E17: This substance is generally recognized as safe for use in food when the total content of antioxidants is not over 0.02 percent of fat or oil content, including essential (volatile) oil content of food, provided the substance is used in accordance with good manufacturing practice.
C18: 21CFR172.515 | D18: 0.5% of the essential (volatile) oil content | E18: BHA (butylated hydroxyanisole) may be used as an antioxidant in flavoring substances whereby the additive does not exceed 0.5 percent of the essential (volatile) oil content of the flavoring substance.
A19: Butylated Hydroxytoluene (BHT) | B19: 2184 | C19: 21CFR182.3173 | D19: 0.02% of fat or oil content | E19: This substance is generally recognized as safe for use in food when the total content of antioxidants is not over 0.02 percent of fat or oil content, including essential (volatile) oil content of food, provided the substance is used in accordance with good manufacturing practice.
A20: Almond, bitter (free from prussic acid) | B20: 2046 | C20: 21CFR182.20 | D20: free from prussic acid | E20: Essential oils, oleoresins (solvent-free), and natural extractives (including distillates) that are generally recognized as safe for their intended use.
A21: Brominated Vegetable Oil (BVO) | D21: FDA Ruling on BVO | E21: **NOTE - Effective August 2, 2024, the FDA has revoked the authorization for the use of brominated vegetable oil (BVO) in food. No formulas will be approved containing BVO as an ingredient.
A22: Calcium Acetate | B22: 2228 | C22: 21CFR184.1185 | D22: 0.0001% | E22: All other food categories
A23: Calcium Alginate | B23: 2015 | C23: 21CFR184.1187 | D23: 0.4% | E23: Alcoholic Beverages
A24: Calcium Chloride | C24: 21CFR184.1193 | D24: 0.05% | E24: All other food categories
A25: Calcium Sulfate | C25: 21CFR184.1230 | D25: 0.07% | E25: All other food categories
A26: Camphor Tree | B26: 2231 | C26: 21CFR172.510 | D26: Safrole Free | E26: Natural flavoring substance or natural substance used in conjunction with flavors; In the appropriate forms (plant parts, fluid and solid extracts, concentrates, absolutes, oils, gums, balsams, resins, oleoresins, waxes, and distillates)
A27: Caprylic Acid (Octanoic Acid) | B27: 2799 | C27: 21CFR184.1025 | D27: 0.001% | E27: All other food categories
A28: Cedar, White (Arborvitae) Leaves & Twigs | B28: 2267 | C28: 21CFR172.510 | D28: Finished Food Thujone Free | E28: Natural flavoring substance or natural substance used in conjunction with flavors; In the appropriate forms (plant parts, fluid and solid extracts, concentrates, absolutes, oils, gums, balsams, resins, oleoresins, waxes, and distillates)
A29: Cherry Pits | B29: 2278 | C29: 21CFR172.510 | D29: 25 ppm prussic acid | E29: Natural flavoring substance or natural substance used in conjunction with flavors; In the appropriate forms (plant parts, fluid and solid extracts, concentrates, absolutes, oils, gums, balsams, resins, oleoresins, waxes, and distillates)
A30: Cherry - Laurel Leaves | B30: 2277 | C30: 21CFR172.510 | D30: 25 ppm prussic acid | E30: Natural flavoring substance or natural substance used in conjunction with flavors; In the appropriate forms (plant parts, fluid and solid extracts, concentrates, absolutes, oils, gums, balsams, resins, oleoresins, waxes, and distillates)
A31: Cinchona, Red & Yellow Bark | B31: 2281, 2282, 2283, 2284, 2285 | C31: 21 CFR172.510 | D31: Not more than 83 ppm total cinchona alkaloids in finished beverage | E31: Beverages only; Natural flavoring substance or natural substance used in conjunction with flavors; In the appropriate forms (plant parts, fluid and solid extracts, concentrates, absolutes, oils, gums, balsams, resins, oleoresins, waxes, and distillates)
A32: Corn Silk & Corn Silk Extract | B32: 2335 | C32: 21CFR184.1262 | D32: 4 ppm | E32: All other food categories
A33: Dimethylpolysiloxane (substantially free from hydrolyzable chloride and alkoxy groups; no more than 18 percent loss in weight after heating 4 hours at 200 deg. C; viscosity 300 to 1,050 centistokes at 25 deg. C; refractive index 1.400-1.404 at 25 deg. C) | C33: 21CFR172.340 | D33: 10 ppm in food | E33: 10 parts per million in food, or at such level in a concentrated food that when prepared as directed on the labels, the food in its ready-for-consumption state will have not more than 10 parts per million except as follows: Zero in milk; 110 parts per million in dry gelatin dessert mixes labeled for use whereby no more than 16 parts per million is present in the ready-to-serve dessert; 250 parts per million in salt labeled for cooking purposes, whereby no more than 10 parts per million is present in the cooked food.
A34: Dithiols - | C34: FEMA | D34: 1 ppm | E34: Total added to any food not to exceed 1.0 ppm
A35: 2,3-butanedithiol | B35: 3477
A36: 1,2-ethanedithiol | B36: 3484
A37: 1,9-nonanedithiol | B37: 3513
A38: Calcium Disodium EDTA (ethylene-diaminetetraacetate) | C38: 21CFR172.120 | D38: 25 ppm | E38: Distilled alcoholic beverages; Use: Promote stability of color, flavor, and/or product clarity
A39: Elder Tree Leaves | C39: 21CFR172.510 | D39: 25 ppm prussic acid in the flavor | E39: Alcoholic beverages only; Natural flavoring substance or natural substance used in conjunction with flavors; In the appropriate forms (plant parts, fluid and solid extracts, concentrates, absolutes, oils, gums, balsams, resins, oleoresins, waxes, and distillates)
A40: Ester Gum (Glycerol Ester of Wood Rosin) | B40: 4226 | C40: 21CFR172.735 | D40: 100 ppm of the finished beverage | E40: It is used to adjust the density of citrus oils used in the preparation of beverages whereby the amount of the additive does not exceed 100 parts per million of the finished beverage.
A41: Ethyl Formate | B41: 2434 | C41: 21CFR184.1295 | D41: 0.01% | E41: All other food categories
A42: Guar Gum | B42: 2537 | C42: 21CFR184.1339 | D42: .5% | E42: All other food categories
A43: Gum Ghatti | B43: 2519 | C43: 21CFR184.1333 | D43: .1% | E43: All other food categories
A44: Gum Tragacanth | B44: 3079 | C44: 21CFR184.1351 | D44: .1% | E44: All other food categories
A45: Glycine | B45: 3287 | C45: 21CFR172.812 | D45: 0.2% in the finished beverage | E45: It is used as a masking agent for the bitter aftertaste of saccharin used in manufactured beverages and beverage bases, not to exceed 0.2 percent in the finished beverage.
A46: Karaya Gum | B46: 2605 | C46: 21CFR184.1349 | D46: 0.002% | E46: All other food categories
A47: Licorice and Licorice Derivatives as Glycyrrhizin | B47: 2528, 2628, 2629, 2630 | C47: 21CFR184.1408 | D47: 0.1% | E47: Alcoholic beverages
A48: Locust (carob) bean gum | B48: 2648 | C48: 21CFR184.1343 | D48: .5% | E48: All other food categories
A49: Malic Acid | B49: 2655 | C49: 21CFR184.1069 | D49: 0.7% | E49: All other food categories
A50: Mannitol | C50: 21CFR180.25 | D50: 2.5% | E50: All other food categories
A51: Methylparaben | B51: 2710 | C51: 21CFR184.1490 | D51: 0.1% | E51: The ingredient is used as an antimicrobial agent as defined in 21 CFR170.3(o)(2) in a maximum level of 0.1 percent in food.
A52: Oak Moss | B52: 2795 | C52: 21CFR172.510 | D52: Finished Food Thujone Free | E52: Natural flavoring substance or natural substance used in conjunction with flavors; In the appropriate forms (plant parts, fluid and solid extracts, concentrates, absolutes, oils, gums, balsams, resins, oleoresins, waxes, and distillates)
A53: Oil of Rue | B53: 2995 | C53: 21CFR184.1699 | D53: 4 ppm | E53: All other food categories
A54: Peach Leaves | C54: 21CFR172.510 | D54: 25 ppm prussic acid in the flavor | E54: Alcoholic beverages only; Natural flavoring substance or natural substance used in conjunction with flavors; In the appropriate forms (plant parts, fluid and solid extracts, concentrates, absolutes, oils, gums, balsams, resins, oleoresins, waxes, and distillates)
A55: Potassium Alginate | C55: 21CFR184.1610 | D55: 0.01% | E55: All other food categories
A56: 1,3-Propanediol | B56: 4753 | C56: GRAS Notice No. GRN 000302 | D56: 0.05 | E56: To be used in place of 1,2-propanediol at levels not to exceed current good manufacturing practice maximum levels of 5 percent for alcoholic beverages.
A57: Propylene Glycol (1,2-Propanediol) | B57: 2940 | C57: 21CFR184.1666 | D57: 5 % | E57: Alcoholic Beverages
A58: Propylene Glycol + 1,3-Propanediol | C58: FDA Correspondence | D58: 0.05 | E58: When used in combination the 5% limit applies to the sum total of the two solvents.
A59: Propylene Glycol Alginate | B59: 2941 | C59: 21CFR172.858 | D59: 1.7% by weight of the finished product | E59: As a flavoring adjunct or adjuvant in seasonings and flavors at a level not to exceed 1.7 percent by weight of the finished product.
D60: 0.3% by weight of the finished product | E60: As an emulsifier, flavoring adjuvant, formulation aid, stabilizer or thickener, or surface active agent in other foods, where applicable, at a level not to exceed 0.3 percent by weight of the finished product.
A61: Propyl Gallate | B61: 2947 | C61: 21CFR184.1660 | D61: 0.02 % of the fat or oil content | E61: The ingredient is used in foods at levels not to exceed good manufacturing practice in accordance with 184.1 (b)(1). Good manufacturing practice results in a maximum total content of antioxidants of 0.02 percent of the fat or oil content, including the essential (volatile) oil content, of the food.
A62: Propylparaben | B62: 2951 | C62: 21CFR184.1670 | D62: 0.1% | E62: The ingredient is used as an antimicrobial agent as defined in 21 CFR170.3(o)(2) in a maximum level of 0.1 percent in food.
A63: Quinine, as the hydrochloride salt or sulfate salt | B63: 2975, 2976, 2977 | C63: 21CFR172.575 | D63: 83 ppm, as quinine | E63: In carbonated beverages as a flavor
A64: Rue | B64: 2994 | C64: 21CFR184.1698 | D64: 2 ppm | E64: All categories of food
A65: Sassafras Leaves | B65: 3010, 3011 | C65: 21CFR172.510 | D65: Safrole Free | E65: Natural flavoring substance or natural substance used in conjunction with flavors; In the appropriate forms (plant parts, fluid and solid extracts, concentrates, absolutes, oils, gums, balsams, resins, oleoresins, waxes, and distillates)
A66: Silicon dioxide | C66: 21CFR172.480 | D66: 2% by weight of the food | E66: Use: Anticaking agent
A67: Sodium Alginate | B67: 2015 | C67: 21CFR184.1724 | D67: 1.0% | E67: All other food categories
A68: Sodium Aluminosilicate | C68: 21CFR182.2727 | D68: 2% | E68: Use: Anticaking agent
A69: Sodium Benzoate | B69: 3025 | C69: 21CFR184.1733 | D69: 0.1% | E69: The ingredient is used as an antimicrobial agent as defined in 21 CFR170.3(o)(2) and as a flavoring agent and adjuvant as defined in 21 CFR170.3(o)(12) at a level not to exceed 0.1 percent in food.
A70: Sodium Calcium Aluminosilicate Hydrated | C70: 21CFR182.2729 | D70: 2% | E70: Use: Anticaking agent
A71: Sodium Thiosulfate | C71: 21CFR184.1807 | D71: 0.00005% | E71: Alcoholic beverages
A72: Sorbitol | B72: 3029 | C72: 21CFR184.1835 | D72: 12% | E72: All other foods; Many uses
A73: St. Johnswort Leaves, Flowers & Caulis | C73: 21CFR172.510 | D73: Hypericin-free | E73: Alcoholic beverages only; Natural flavoring substance or natural substance used in conjunction with flavors; Hypericin-free alcohol distillate form only
A74: Stannous chloride (anhydrous and dihydrated) | C74: 21CFR184.1845 | D74: 0.0015 % calculated as tin | E74: All food categories
A75: Sucrose Acetate Isobutyrate (SAIB) | C75: 21CFR172.833 | D75: 300 mg/kg of the finished beverage | E75: The total SAIB content of a beverage containing the additive does not exceed 300 milligrams/kilogram of the finished beverage.
A76: Sulfuric Acid | C76: 21CFR184.1095 | D76: 0.014% | E76: Alcoholic beverages
A77: Tagetes (marigold) | B77: 3040 | C77: 21CFR172.510 | D77: As oil only | E77: Natural flavoring substance or natural substance used in conjunction with flavors; As oil only
A78: Tannic Acid | B78: 3042 | C78: 21CFR184.1097 | D78: 0.015% | E78: Alcoholic beverages
A79: Tansy | C79: 21CFR172.510 | D79: Finished Alcoholic Beverage Thujone Free | E79: Alcoholic beverages only; Natural flavoring substance or natural substance used in conjunction with flavors; In the appropriate forms (plant parts, fluid and solid extracts, concentrates, absolutes, oils, gums, balsams, resins, oleoresins, waxes, and distillates)
A80: Tertiary butylhydroquinone (TBHQ) | C80: 21CFR172.185 | D80: .02 % of the oil or fat content | E80: The total antioxidant content of a food containing the additive will not exceed 0.02 percent of the oil or fat content of the food, including the essential (volatile) oil content of the food.
A81: Woodruff, Sweet | C81: 21CFR172.510 | E81: Alcoholic beverages only; Natural flavoring substance or natural substance used in conjunction with flavors; In the appropriate forms (plant parts, fluid and solid extracts, concentrates, absolutes, oils, gums, balsams, resins, oleoresins, waxes, and distillates)
C82: ATF Ruling 74-10 | D82: 5 ppm Coumarin | E82: May Wine
A83: Yarrow | B83: 3117 | C83: 21CFR172.510 | D83: Finished Beverage Thujone Free | E83: Beverages only; Natural flavoring substance or natural substance used in conjunction with flavors; In the appropriate forms (plant parts, fluid and solid extracts, concentrates, absolutes, oils, gums, balsams, resins, oleoresins, waxes, and distillates)
A84: Yellow Prussiate of Soda (sodium ferrocyanide decahydrate) | C84: 21CFR172.490 | D84: 13 ppm | E84: The additive is used or intended for use as an anticaking agent in salt and as an adjuvant in the product of dendritic crystals of salt in an amount needed to product its intended effect but not in excess of 13 parts per million calculated as anhydrous sodium ferrocyanide.
A86: * For more information on the Flavor and Extract Manufacturers Association of the United States (FEMA) GRAS program, visit: http://www.femaflavor.org/gras
A89: TTB Limited Ingredients | C89: There are 4 artificial flavor materials that TTB allows to be present at certain levels in alcohol beverages without affecting the label declaration. If the levels of each of these, or a combination of them, exceed TTB's limitation the alcohol beverage must be labeled as "imitation."
A91: Artificial Vanillin
A92: Artificial Ethyl Vanillin
A93: Artificial Maltol
A94: Artificial Ethyl Maltol
A97: Flavoring Substances and Adjuvants Subject to Limitation or Restriction
A98: Material | B98: Relevent FEMA Numbers | C98: Scientific name | D98: Reference | E98: Limitation
A99: Angola weed | C99: Roccella fuciformis Ach | D99: 21CFR172.510 | E99: In alcoholic beverages only
A100: Arnica flowers | C100: Arnica montana L., A. fulgens Pursh, A. sororia Greene, or A. cordifolia Hooker | D100: 21CFR172.510 | E100: In alcoholic beverages only
A101: Artichoke leaves | C101: Cynara scolymus L | D101: 21CFR172.510 | E101: In alcoholic beverages only
A102: Boldus (boldo) leaves | C102: Peumus boldus Mol | D102: 21CFR172.510 | E102: In alcoholic beverages only
A103: Bryonia root | C103: Bryonia alba L., or B. diocia Jacq | D103: 21CFR172.510 | E103: In alcoholic beverages only
A104: Buckbean leaves | C104: Menyanthes trifoliata L | D104: 21CFR172.510 | E104: In alcoholic beverages only
A105: Calcium Pyrophosphate | C105: Calcium Pyrophosphate | D105: 21CFR182.5223 21 CFR182.8223 | E105: Dietary Supplements; Nutrients
A106: Calumba root | C106: Jateorhiza palmata (Lam.) Miers | D106: 21CFR172.510 | E106: In alcoholic beverages only
A107: Centuary | C107: Centaurium umbellatum Gilib | D107: 21CFR172.510 | E107: In alcoholic beverages only
A108: Chirata | C108: Swertia chirata Buch.-Ham | D108: 21CFR172.510 | E108: In alcoholic beverages only
A109: Cork, oak | C109: Quercus suber L., or Q. occidentalis F. Gay | D109: 21CFR172.510 | E109: In alcoholic beverages only
A110: Costmary | C110: Chrysanthemum balsamita L | D110: 21CFR172.510 | E110: In alcoholic beverages only
...

Sheet No Guideline List
A1: FEMA NUMBER | B1: NAME | C1: DISPLAY | F1: ='Flavor Unfitness Worksheet'!J1 -> Version 2026.1
A2: 2001 | B2: ACACIA GUM | C2: NO GUIDELINE
A3: 2006 | B3: ACETIC ACID | C3: NO GUIDELINE
A4: 2010 | B4: ACONITIC ACID | C4: NO GUIDELINE
A5: 2011 | B5: ADIPIC ACID | C5: NO GUIDELINE
A6: 2012 | B6: AGAR | C6: NO GUIDELINE
A7: 2013 | B7: ALFALFA EXTRACT | C7: NO GUIDELINE
A8: 2014 | B8: ALGIN 10 | C8: NO GUIDELINE
A9: 2015 | B9: ALGINATES: AMMONIUM, CALCIUM, POTASSIUM & SODIUM | C9: NO GUIDELINE
A10: 2016 | B10: ALKANET ROOT EXTRACT (PROHIBITED) | C10: NO GUIDELINE
A11: 2049 | B11: AMBERGRIS | C11: NO GUIDELINE
A12: 2050 | B12: AMBRETTE ABSOLUTE OIL | C12: NO GUIDELINE
A13: 2052 | B13: AMBRETTE TINCTURE | C13: NO GUIDELINE
... A582: 5042 | B582: Heat-treated glucosylated steviol glycosides 35% with steviol glycosides 10% | C582: NO GUIDELINE
A583: N/A | B583: BUCHU LEAVES EXTRACT | C583: NO GUIDELINE
A584: N/A | B584: PENNYROYAL OIL AMERICAN | C584: NO GUIDELINE
A585: N/A | B585: VANILLIN, NATURAL | C585: NO GUIDELINE
A586: N/A | B586: ANGELICA | C586: NO GUIDELINE
A587: N/A | B587: ANGELICA SEED | C587: NO GUIDELINE
A588: N/A | B588: ANGELICA ROOT | C588: NO GUIDELINE
A589: N/A | B589: ANGOLA WEED | C589: NO GUIDELINE
A590: N/A | B590: ANGOSTURA | C590: NO GUIDELINE
A591: N/A | B591: APRICOT | C591: NO GUIDELINE
A592: N/A | B592: ARNICA FLOWER | C592: NO GUIDELINE
A593: N/A | B593: ARTICHOKE LEAVES | C593: NO GUIDELINE
A594: N/A | B594: ASPARAGUS | C594: NO GUIDELINE
... A896: N/A | B896: YUCCA, MOHAVE | C896: NO GUIDELINE

Sheet Fenaroli
A1: FEMA NUMBER | B1: NAME | C1: AB | D1: NB | E1: Highest
A2: 2001 | B2: ACACIA GUM | C2: 1.53 | D2: 0.66 | E2: NO GUIDELINE
A3: 2002 | B3: ACETAL | C3: 154 | D3: 11 | E3: =IF(C3>D3,C3,D3) -> 154
A4: 2003 | B4: ACETALDEHYDE | C4: 470 | D4: 190 | E4: SEE 1% LIST
A5: 2004 | B5: ACETALDEHYDE PHENETHYL PROPYL ACETAL | C5: 7 | D5: 6.33 | E5: =IF(C5>D5,C5,D5) -> 7
A6: 2005 | B6: ACETANISOLE | C6: 0.0001 | D6: 150 | E6: =IF(C6>D6,C6,D6) -> 150
A7: 2006 | B7: ACETIC ACID | C7: 0.18 | D7: 0.23 | E7: NO GUIDELINE
A8: 2007 | B8: TRIACETIN | C8: 0.72 | D8: 0.28 | E8: PRIMARY GDL
A9: 2008 | B9: ACETOIN | C9: 3.1 | D9: 17 | E9: =IF(C9>D9,C9,D9) -> 17
A10: 2009 | B10: ACETOPHENONE | C10: 1 | D10: 5.93 | E10: =IF(C10>D10,C10,D10) -> 5.93
A11: 2010 | B11: ACONITIC ACID | C11: 20 | D11: 3.36 | E11: NO GUIDELINE
A12: 2011 | B12: ADIPIC ACID | C12: 40 | D12: 0.05 | E12: NO GUIDELINE
A13: 2012 | B13: AGAR | D13: N/A | E13: NO GUIDELINE
A14: 2013 | B14: ALFALFA EXTRACT | C14: 730.5 | D14: 36.16 | E14: NO GUIDELINE
A15: 2014 | B15: ALGIN 10 | D15: 240 | E15: NO GUIDELINE
A16: 2015 | B16: ALGINATES: AMMONIUM, CALCIUM, POTASSIUM & SODIUM | D16: 340 | E16: NO GUIDELINE
A17: 2016 | B17: ALKANET ROOT EXTRACT (PROHIBITED) | D17: N/A | E17: NO GUIDELINE
A18: 2017 | B18: PIMENTA (ALLSPICE) | C18: 150 | D18: 73.1 | E18: BOTANICAL EXT
A19: 2018 | B19: ALLSPICE OIL | C19: 152.7 | D19: 30.2 | E19: SEE 1% LIST
A20: 2019 | B20: ALLSPICE OLEORESIN | D20: N/A | E20: =IF(C20>D20,C20,D20) -> N/A
A21: 2020 | B21: ALLYL ANTHRANILATE | C21: 2.5 | D21: 1.64 | E21: =IF(C21>D21,C21,D21) -> 2.5
A22: 2021 | B22: ALLYL BUTYRATE | C22: 1.33 | D22: 1.47 | E22: =IF(C22>D22,C22,D22) -> 1.47
A23: 2022 | B23: ALLYL CINNAMATE | C23: 2 | D23: 1.81 | E23: =IF(C23>D23,C23,D23) -> 2
A24: 2023 | B24: ALLYL CYCLOHEXANEACETATE | C24: 2 | D24: 7.59 | E24: =IF(C24>D24,C24,D24) -> 7.59
A25: 2024 | B25: ALLYL CYCLOHEXANE BUTYRATE | C25: 2 | D25: 8.57 | E25: =IF(C25>D25,C25,D25) -> 8.57
A26: 2025 | B26: ALLYL CYCLOHEXANEHEXANOATE | C26: 4 | D26: 3.13 | E26: =IF(C26>D26,C26,D26) -> 4
A27: 2026 | B27: ALLYL CYCLOHEXANE PROPIONATE | C27: 5.33 | D27: 13.8 | E27: =IF(C27>D27,C27,D27) -> 13.8
A28: 2027 | B28: ALLYL CYCLOHEXANEVALERATE | C28: 4 | D28: 2.63 | E28: =IF(C28>D28,C28,D28) -> 4
A29: 2028 | B29: ALLYL DISULFIDE | C29: 1 | D29: 0.68 | E29: =IF(C29>D29,C29,D29) -> 1
A30: 2029 | B30: ALLYL-2-ETHYLBUTYRATE | C30: 2 | D30: 1.38 | E30: =IF(C30>D30,C30,D30) -> 2
A31: 2030 | B31: ALLYL 2-FUROATE | C31: 1 | D31: 0.54 | E31: =IF(C31>D31,C31,D31) -> 1
A32: 2031 | B32: ALLYL HEPTANOATE | C32: 0.9 | D32: 14 | E32: =IF(C32>D32,C32,D32) -> 14
A33: 2032 | B33: ALLYL HEXANOATE | C33: 5.5 | D33: 21.98 | E33: SEE 1% LIST
A34: 2033 | B34: ALLYL α-IONONE | C34: 0.75 | D34: 1.28 | E34: =IF(C34>D34,C34,D34) -> 1.28
A35: 2034 | B35: ALLYL ISOTHIOCYANATE | D35: 2 | E35: SEE 1% LIST
A36: 2035 | B36: ALLYL MERCAPTAN | C36: 0.5 | D36: 0.84 | E36: =IF(C36>D36,C36,D36) -> 0.84
A37: 2036 | B37: ALLYL NONANOATE | C37: 1 | D37: 1.4 | E37: =IF(C37>D37,C37,D37) -> 1.4
A38: 2037 | B38: ALLYL OCTANOATE | C38: 2 | D38: 8.34 | E38: =IF(C38>D38,C38,D38) -> 8.34
A39: 2038 | B39: ALLYL PHENOXYACETATE | C39: 1 | D39: 0.98 | E39: =IF(C39>D39,C39,D39) -> 1
A40: 2039 | B40: ALLYL PHENYLACETATE | C40: 10 | D40: 6.9 | E40: =IF(C40>D40,C40,D40) -> 10
A41: 2040 | B41: ALLYL PROPIONATE | C41: 10 | D41: 2 | E41: =IF(C41>D41,C41,D41) -> 10
A42: 2041 | B42: ALLYL SORBATE | D42: 1.45 | E42: =IF(C42>D42,C42,D42) -> 1.45
A43: 2042 | B43: ALLYL SULFIDE | C43: 0.04 | D43: 0.04 | E43: =IF(C43>D43,C43,D43) -> 0.04
A44: 2043 | B44: ALLYL TIGLATE | D44: 4.15 | E44: =IF(C44>D44,C44,D44) -> 4.15
A45: 2044 | B45: ALLYL 10-UNDECENOATE | C45: 1 | D45: 2.26 | E45: =IF(C45>D45,C45,D45) -> 2.26
A46: 2045 | B46: ALLYL ISOVALERATE | C46: 10 | D46: 11.05 | E46: =IF(C46>D46,C46,D46) -> 11.05
A47: 2046 | B47: ALMOND BITTER | C47: 160.6 | D47: 50.35 | E47: SEE 1% LIST
A48: 2047 | B48: ALOE | C48: 186 | D48: 190 | E48: BOTANICAL EXT
A49: 2048 | B49: ALTHEA ROOT | D49: 7.16 | E49: BOTANICAL EXT
A50: 2049 | B50: AMBERGRIS | D50: 2.54 | E50: NO GUIDELINE
A51: 2050 | B51: AMBRETTE ABSOLUTE OIL | C51: 7 | D51: 1.51 | E51: NO GUIDELINE
A52: 2051 | B52: AMBRETTE SEED OIL | C52: 3.1 | D52: 1.2 | E52: SEE 1% LIST
A53: 2052 | B53: AMBRETTE TINCTURE | C53: 26.5 | D53: 12.4 | E53: NO GUIDELINE
A54: 2053 | B54: AMMONIUM SULFIDE | D54: N/A | E54: =IF(C54>D54,C54,D54) -> N/A
A55: 2054 | B55: AMMONIUM ISOVALERATE | D55: 2 | E55: =IF(C55>D55,C55,D55) -> 2
A56: 2055 | B56: ISOAMYL ACETATE | C56: 38.83 | D56: 72.98 | E56: SEE 1% LIST
A57: 2056 | B57: AMYL ALCOHOL | C57: 30.25 | D57: 142.8 | E57: =IF(C57>D57,C57,D57) -> 142.8
A58: 2057 | B58: ISOAMYL ALCOHOL | C58: 4500 | D58: 14 | E58: NO GUIDELINE
A59: 2058 | B59: ISOAMYL BENZOATE | C59: 3 | D59: 7.6 | E59: =IF(C59>D59,C59,D59) -> 7.6
A60: 2059 | B60: AMYL BUTYRATE | C60: 19.75 | D60: 25.67 | E60: =IF(C60>D60,C60,D60) -> 25.67
A61: 2060 | B61: ISOAMYL BUTYRATE | C61: 20 | D61: 69.24 | E61: =IF(C61>D61,C61,D61) -> 69.24
A62: 2061 | B62: α-AMYLCINNAMALDEHYDE | C62: 1.22 | D62: 4.47 | E62: =IF(C62>D62,C62,D62) -> 4.47
A63: 2062 | B63: α-AMYLCINNAMALDEHYDE DIMETHYL ACETAL | D63: 2.7 | E63: =IF(C63>D63,C63,D63) -> 2.7
A64: 2063 | B64: ISOAMYL CINNAMATE | C64: 10 | D64: 5.14 | E64: NO GUIDELINE
A65: 2064 | B65: α-AMYLCINNAMYL ACETATE | C65: 2 | D65: 3.2 | E65: =IF(C65>D65,C65,D65) -> 3.2
A66: 2065 | B66: α-AMYLCINNAMYL ALCOHOL | C66: 1 | D66: 1.58 | E66: =IF(C66>D66,C66,D66) -> 1.58
A67: 2066 | B67: α-AMYLCINNAMYL FORMATE | C67: 1 | D67: 1.5 | E67: =IF(C67>D67,C67,D67) -> 1.5
A68: 2067 | B68: α-AMYLCINNAMYL ISOVALERATE | C68: 1 | D68: 1.58 | E68: =IF(C68>D68,C68,D68) -> 1.58
A69: 2068 | B69: AMYL FORMATE | C69: 29.35 | D69: 20.83 | E69: =IF(C69>D69,C69,D69) -> 29.35
A70: 2069 | B70: ISOAMYL FORMATE | C70: 30 | D70: 16.86 | E70: =IF(C70>D70,C70,D70) -> 30
A71: 2070 | B71: ISOAMYL 4(2-FURAN) BUTYRATE | C71: 0.1 | D71: 3.05 | E71: =IF(C71>D71,C71,D71) -> 3.05
A72: 2071 | B72: ISOAMYL 3-(2-FURAN) PROPIONATE | C72: 0.1 | D72: 0.37 | E72: =IF(C72>D72,C72,D72) -> 0.37
A73: 2072 | B73: AMYL 2-FUROATE | C73: 5 | D73: 5 | E73: =IF(C73>D73,C73,D73) -> 5
A74: 2073 | B74: AMYL HEPTANOATE | C74: 10 | D74: 12.2 | E74: =IF(C74>D74,C74,D74) -> 12.2
A75: 2074 | B75: AMYL HEXANOATE | C75: 10 | D75: 6.56 | E75: =IF(C75>D75,C75,D75) -> 10
A76: 2075 | B76: ISOAMYL HEXANOATE | C76: 10 | D76: 1.42 | E76: =IF(C76>D76,C76,D76) -> 10
A77: 2076 | B77: 2-AMYL-5 or 6-KETO-1,4-DIOXANE | D77: 10 | E77: =IF(C77>D77,C77,D77) -> 10
A78: 2077 | B78: ISOAMYL LAURATE | D78: 2.64 | E78: =IF(C78>D78,C78,D78) -> 2.64
A79: 2078 | B79: ISOAMYL NONANOATE | C79: 2.5 | D79: 6.5 | E79: =IF(C79>D79,C79,D79) -> 6.5
A80: 2079 | B80: AMYL OCTANOATE | D80: 5.76 | E80: =IF(C80>D80,C80,D80) -> 5.76
A81: 2080 | B81: ISOAMYL OCTANOATE | C81: 5 | D81: 6.39 | E81: =IF(C81>D81,C81,D81) -> 6.39
A82: 2081 | B82: ISOAMYL PHENYLACETATE | C82: 10 | D82: 5.98 | E82: =IF(C82>D82,C82,D82) -> 10
A83: 2082 | B83: ISOAMYL PROPIONATE | C83: 11.67 | D83: 14.59 | E83: =IF(C83>D83,C83,D83) -> 14.59
A84: 2083 | B84: ISOAMYL PYRUVATE | D84: 5.06 | E84: =IF(C84>D84,C84,D84) -> 5.06
A85: 2084 | B85: ISOAMYL SALICYLATE | C85: 2 | D85: 1.99 | E85: =IF(C85>D85,C85,D85) -> 2
A86: 2085 | B86: ISOAMYL ISOVALERATE | C86: 400 | D86: 10 | E86: =IF(C86>D86,C86,D86) -> 400
A87: 2086 | B87: trans-ANETHOLE | C87: 722.5 | D87: 42.54 | E87: NO GUIDELINE
A88: 2087 | B88: ANGELICA ROOT EXTRACT | C88: 15.79 | D88: 54.76 | E88: NO GUIDELINE
A89: 2088 | B89: ANGELICA ROOT OIL | C89: 41.29 | D89: 13.31 | E89: SEE 1% LIST
A90: 2089 | B90: ANGELICA SEED EXTRACT | C90: 2000 | D90: 1200 | E90: NO GUIDELINE
A91: 2090 | B91: ANGELICA SEED OIL | C91: 75.61 | D91: 33 | E91: NO GUIDELINE
A92: 2091 | B92: ANGELICA STEM OIL | C92: 77 | D92: 13.29 | E92: NO GUIDELINE
A93: 2092 | B93: ANGOSTURA EXTRACT | C93: 3030 | D93: 329.9 | E93: NO GUIDELINE
A94: 2093 | B94: ANISE 13 | C94: 3.77 | D94: 40 | E94: BOTANICAL EXT
A95: 2094 | B95: ANISE OIL | C95: 570.2 | D95: 31.33 | E95: PRIMARY GDL
A96: 2095 | B96: STAR ANISE | C96: 60 | D96: 15 | E96: BOTANICAL EXT
A97: 2096 | B97: STAR ANISE OIL | C97: 167.4 | D97: 15.18 | E97: PRIMARY GDL
A98: 2097 | B98: ANISOLE | D98: 13.47 | E98: =IF(C98>D98,C98,D98) -> 13.47
A99: 2098 | B99: ANISYL ACETATE | C99: 3.83 | D99: 6.98 | E99: =IF(C99>D99,C99,D99) -> 6.98
A100: 2099 | B100: ANISYL ALCOHOL | C100: 2.87 | D100: 14.76 | E100: NO GUIDELINE
...

Sheet Limited Ingredients (hidden)
A1: Relevant FEMA Numbers * | B1: Material | C1: Display
A2: 2001 | B2: Acacia - Gum Arabic | C2: Y
A3: 2006 | B3: Acetic Acid | C3: Y
A4: 2010 | B4: Aconitic Acid | C4: Y
A5: 2011 | B5: Adipic Acid | C5: Y
A6: 2012 | B6: Agar-agar | C6: Y
A7: 2015 | B7: Ammonium Alginate | C7: Y
A8: 2015 | B8: Calcium Alginate | C8: Y
A9: 2015 | B9: Sodium Alginate | C9: Y
A10: 2046 | B10: Almond, bitter (free from prussic acid) | C10: C*
A11: 2126 | B11: Beeswax Yellow & White | C11: Y
A12: 2131 | B12: Benzoic Acid | C12: Y
A13: 2183 | B13: Butylated hydroxyanisole (BHA) | C13: Y
... A72: 4912 | B72: Roselle | C72: C*
B73: Bakers Yeast Extract
B74: Brominated Vegetable Oil (BVO)
B75: Calcium Chloride
B76: Calcium Sulfate
B77: Dithiols -
B78: Calcium Disodium EDTA (ethylene-diaminetetraacetate)
B79: Elder Tree Leaves
B80: Mannitol
B81: Peach Leaves
B82: Potassium Alginate
B83: Propylene Glycol + 1,3-Propanediol
B84: Silicon dioxide
... B95: Yellow Prussiate of Soda (sodium ferrocyanide decahydrate)

Sheet Updates
A2: Date Updated | B2: Changes Made | C2: Made By | F2: unprotect password - unfitNPL1
A3: 40822 | B3: Updates Tab added | C3: RKS
A4: 40864 | B4: Chemicals changed to 'Removed' (FEMA #2109, 2410, 2889, 2900, 3511, 3723) | C4: RKS
A5: 40940 | B5: Changed FEMA #2234 (Capsicum Oleoresin) to 'SEE 1% LIST' | C5: RKS
A6: 40960 | B6: Changed FEMA #2003 (Acetaldehyde) to 'REMOVED' | C6: RKS
A7: 40977 | B7: Added use rates for FEMA #3748 - not in previous edition | C7: RKS
A8: 41025 | B8: Changed FEMA #2929 (Isopropyl Alcohol) to 'REMOVED' | C8: RKS
A9: 41317 | B9: Changed the Anise Oil guideline to 4.4% by weight (from 4.43%) to match Drawback Tutorial | C9: RKS
A10: 41395 | B10: Chemicals changed to 'Removed' (FEMA #2520, 2327, 2792, 2017, 2498) | C10: RKS
A11: 41450 | B11: Fixed Salt Guidelines - does not scale below 1.5 g/100mL | C11: RKS
A12: 41450 | B12: Dietary Supplement Tab added | C12: RKS
A13: 41765 | B13: 1% solutions tab added | C13: RKS
A14: 41765 | B14: Version number added to all tabs | C14: RKS
... A152: 46098 | B152: added Ethyl trans-2,cis-4-decadienoate (fema 3148) to 1% list | C152: RKS
